Workbook

Sheet Übersicht
A1: Einheit | C1: Anzahl | E1: Gebäude | G1: Stufe | I1: Res-Poduktion | J1: Gebäudeprod | K1: Mit Boni | L1: Fähigkeiten | M1: Items | N1: 1h Prod | X1: Pilze | AA1: Essenzen | AB1: Kristall | AC1: Stein | AD1: Gold | AE1: Mana | AF1: Punkte | AM1: =1+3*ROUNDDOWN(ROW(AM1)/2.000001,) -> 1 | AN1: =SUM(AM$1:AM1) -> 1
A2: Kobold | E2: Baum des Lebens | I2: Baum des Lebens | J2: =IF(G2=0,0,ROUND((G2^1.005),)+40) -> 0 | K2: =J2+L2+M2 -> 0 | L2: =ROUNDUP(J$2*0.001*M16,)+ROUND(0.01*M16,) -> 0 | M2: =IF(L$18=1,Itemsets!AE10,IF(L$18=2,Itemsets!AN10,IF(L$18=3,Itemsets!AE21,IF(L$18=4,Itemsets!AN21,IF(L$18=5,Itemsets!AE32,IF(L$18=6,Itemsets!AN32,IF(L$18=7,Itemsets!AE433,0))))))) -> 0 | N2: =20*K2 -> 0 | X2: =ROUNDUP(AE2/AE$2*3,) -> 3 | Y2: Kobold | AA2: 400 | AB2: 300 | AC2: 25 | AD2: 0 | AE2: 100 | AF2: =AA2*321+1*AB2*399+1*AC2*573+1*AD2*882 -> 262425 | AK2: 1 | AM2: =1+3*ROUNDDOWN(ROW(AM2)/2.000001,) -> 1 | AN2: =SUM(AM$1:AM2) -> 2
A3: Kinder der Macht | E3: Kräuterschule | I3: Kräuterschule | J3: =IF(G3=0,0,ROUND((G3^1.96+4-19)/19,)+60/1) -> 0 | K3: =J3+L3+M3 -> 0 | L3: =ROUNDUP(J$3*0.0015*M14,)+ROUND(0.1*M14,) -> 0 | M3: =IF(L$18=1,Itemsets!AA10,IF(L$18=2,Itemsets!AJ10,IF(L$18=3,Itemsets!AA21,IF(L$18=4,Itemsets!AJ21,IF(L$18=5,Itemsets!AA32,IF(L$18=6,Itemsets!AJ32,IF(L$18=7,Itemsets!AA433,0))))))) -> 0 | N3: =20*K3 -> 0 | X3: =ROUNDUP(AE3/AE$2*3,) -> 3 | Y3: Kinder der Macht | AA3: 300 | AB3: 400 | AC3: 20 | AD3: 0 | AE3: 100 | AF3: =AA3*321+1*AB3*399+1*AC3*573+1*AD3*882 -> 267360 | AK3: 1 | AM3: =1+3*ROUNDDOWN(ROW(AM3)/2.000001,) -> 4 | AN3: =SUM(AM$1:AM3) -> 6
A4: Eiskrieger | E4: Kristallhöhle | I4: Kristallhöhle | J4: =IF(G4=0,0,ROUND((G4^1.96+4-20)/20,)+60/2) -> 0 | K4: =J4+L4+M4 -> 0 | L4: =ROUNDUP(J$4*0.0015*M14,)+ROUND(0.089*M14,) -> 0 | M4: =IF(L$18=1,Itemsets!AB10,IF(L$18=2,Itemsets!AK10,IF(L$18=3,Itemsets!AB21,IF(L$18=4,Itemsets!AK21,IF(L$18=5,Itemsets!AB32,IF(L$18=6,Itemsets!AK32,IF(L$18=7,Itemsets!AB433,0))))))) -> 0 | N4: =20*K4 -> 0 | X4: 5 | Y4: Eiskrieger | AA4: 800 | AB4: 500 | AC4: 125 | AD4: 25 | AE4: 220 | AF4: =AA4*321+1*AB4*399+1*AC4*573+1*AD4*882 -> 549975 | AK4: 3.59 | AM4: =1+3*ROUNDDOWN(ROW(AM4)/2.000001,) -> 4 | AN4: =SUM(AM$1:AM4) -> 10
A5: Hysterische Zentaurin | E5: Steinwurzel | I5: Steinwurzel | J5: =IF(G5=0,0,ROUND((G5^1.96+4-16)/16,)+60/3) -> 0 | K5: =J5+L5+M5 -> 0 | L5: =ROUNDUP(J$5*0.0015*M15,)+ROUND(0.04*M15,) -> 0 | M5: =IF(L$18=1,Itemsets!AC10,IF(L$18=2,Itemsets!AL10,IF(L$18=3,Itemsets!AC21,IF(L$18=4,Itemsets!AL21,IF(L$18=5,Itemsets!AC32,IF(L$18=6,Itemsets!AL32,IF(L$18=7,Itemsets!AC433,0))))))) -> 0 | N5: =20*K5 -> 0 | X5: 5 | Y5: Hysterische Zentaurin | AA5: 500 | AB5: 800 | AC5: 60 | AD5: 50 | AE5: 220 | AF5: =AA5*321+1*AB5*399+1*AC5*573+1*AD5*882 -> 558180 | AK5: 3.59 | AM5: =1+3*ROUNDDOWN(ROW(AM5)/2.000001,) -> 7 | AN5: =SUM(AM$1:AM5) -> 17
A6: Kriegspriester | E6: Harzader | I6: Harzader | J6: =IF(G6=0,0,ROUND((G6^1.96+4-14)/14,)+60/4) -> 0 | K6: =J6+L6+M6 -> 0 | L6: =ROUNDUP(J$6*0.0015*M15,)+ROUND(0.02*M15,) -> 0 | M6: =IF(L$18=1,Itemsets!AD10,IF(L$18=2,Itemsets!AM10,IF(L$18=3,Itemsets!AD21,IF(L$18=4,Itemsets!AM21,IF(L$18=5,Itemsets!AD32,IF(L$18=6,Itemsets!AM32,IF(L$18=7,Itemsets!AD433,0))))))) -> 0 | N6: =20*K6 -> 0 | X6: 7 | Y6: Kriegspriester | AA6: 1200 | AB6: 600 | AC6: 250 | AD6: 100 | AE6: 360 | AF6: =AA6*321+1*AB6*399+1*AC6*573+1*AD6*882 -> 856050 | AK6: 7.49 | AM6: =1+3*ROUNDDOWN(ROW(AM6)/2.000001,) -> 7 | AN6: =SUM(AM$1:AM6) -> 24
A7: Wilde Zentauren | E7: Schamanenhütte | I7: Schamanenhütte | J7: =IF(G7=0,0,ROUND((G7^1.8)*1.2/3.213249693,)) -> 0 | K7: =J7 -> 0 | L7: =0 -> 0 | M7: =0 -> 0 | N7: =20*K7 -> 0 | X7: 7 | Y7: Wilde Zentauren | AA7: 800 | AB7: 1400 | AC7: 90 | AD7: 80 | AE7: 360 | AF7: =AA7*321+1*AB7*399+1*AC7*573+1*AD7*882 -> 937530 | AK7: 7.289 | AM7: =1+3*ROUNDDOWN(ROW(AM7)/2.000001,) -> 10 | AN7: =SUM(AM$1:AM7) -> 34
A8: Axtschwingende Zwerge | E8: Steinmantel | X8: 10 | Y8: Axtschwingende Zwerge | AA8: 1600 | AB8: 800 | AC8: 300 | AD8: 150 | AE8: 480 | AF8: =AA8*321+1*AB8*399+1*AC8*573+1*AD8*882 -> 1137000 | AK8: 10.79 | AM8: =1+3*ROUNDDOWN(ROW(AM8)/2.000001,) -> 10 | AN8: =SUM(AM$1:AM8) -> 44
A9: Elfbogenschütze | E9: Kriegsbrunnnen | X9: 10 | Y9: Elfbogenschütze | AA9: 1200 | AB9: 1800 | AC9: 120 | AD9: 95 | AE9: 480 | AF9: =AA9*321+1*AB9*399+1*AC9*573+1*AD9*882 -> 1255950 | AK9: 10.79 | AM9: =1+3*ROUNDDOWN(ROW(AM9)/2.000001,) -> 13 | AN9: =SUM(AM$1:AM9) -> 57
A10: Doppelaxtzwerg | E10: Palasthof | I10: Energie-Rechner | L10: Magie | X10: 14 | Y10: Doppelaxtzwerg | AA10: 2200 | AB10: 1000 | AC10: 370 | AD10: 250 | AE10: 660 | AF10: =AA10*321+1*AB10*399+1*AC10*573+1*AD10*882 -> 1537710 | AK10: 15.339 | AM10: =1+3*ROUNDDOWN(ROW(AM10)/2.000001,) -> 13 | AN10: =SUM(AM$1:AM10) -> 70
A11: Feuerfee | E11: Gebäudepunkte | G11: =IF(SUM(G2:G10)=0,0,ROUNDUP(0.6*(((AA29+Z29)^(1/1.96)+(Z28+AA28)^(1/1.005))^0.6)*((Z29)^(1/1.96)+(Z28)^(1/1.005))^0.6/(((AA29)^(1/1.96)+(AA28)^(1/1.005))^0.6+((Z29)^(1/1.96)+(Z28)^(1/1.005))^0.6),)) -> 0 | I11: Engerie derzeit | L11: Fähigkeitspunkte | N11: Bonus | X11: 14 | Y11: Feuerfee | AA11: 1500 | AB11: 2600 | AC11: 150 | AD11: 140 | AE11: 660 | AF11: =AA11*321+1*AB11*399+1*AC11*573+1*AD11*882 -> 1728330 | AK11: 15.443 | AM11: =1+3*ROUNDDOWN(ROW(AM11)/2.000001,) -> 16 | AN11: =SUM(AM$1:AM11) -> 86
A12: Halbriese | I12: Ziel-Energie | L12: Angriff | N12: =0.0015*M12 -> 0 | X12: 19 | Y12: Halbriese | AA12: 2500 | AB12: 1200 | AC12: 460 | AD12: 300 | AE12: 760 | AF12: =AA12*321+1*AB12*399+1*AC12*573+1*AD12*882 -> 1809480 | AK12: 17.774 | AM12: =1+3*ROUNDDOWN(ROW(AM12)/2.000001,) -> 16 | AN12: =SUM(AM$1:AM12) -> 102
A13: Baumriese | E13: Magierlevel | I13: Erreicht um | J13: =IF(J12>J11,TIME(Übersicht!Y37+ROUNDDOWN((J12-J11)*3/60,),Übersicht!Z37+MOD((J12-J11)*3,60)-MOD(Übersicht!Z37,3),),Übersicht!Y35) -> Energie bereits erreicht | L13: Verteidigung | N13: =0.0025*M13 -> 0 | X13: 19 | Y13: Baumriese | AA13: 1750 | AB13: 3000 | AC13: 200 | AD13: 175 | AE13: 760 | AF13: =AA13*321+1*AB13*399+1*AC13*573+1*AD13*882 -> 2027700 | AK13: 17.69 | AM13: =1+3*ROUNDDOWN(ROW(AM13)/2.000001,) -> 19 | AN13: =SUM(AM$1:AM13) -> 121
A14: Bergtroll | E14: Magierpunkte | G14: =ROUNDUP(((AA29+Z29)^(1/1.96)+(Z28+AA28)^(1/1.005))^0.6*(1+G13^0.6/30)*0.6,)-ROUNDUP(0.6*((AA29+Z29)^(1/1.96)+(Z28+AA28)^(1/1.005))^0.6,) -> 0 | L14: Suléan | N14: =INDIRECT("AC34")&"|"&INDIRECT("AC35")&"|"&INDIRECT("Ad34") -> 0|0|0% | X14: 25 | Y14: Bergtroll | AA14: 3000 | AB14: 1400 | AC14: 770 | AD14: 500 | AE14: 1000 | AF14: =AA14*321+1*AB14*399+1*AC14*573+1*AD14*882 -> 2403810 | AK14: 27.359 | AM14: =1+3*ROUNDDOWN(ROW(AM14)/2.000001,) -> 19 | AN14: =SUM(AM$1:AM14) -> 140
A15: Elfenmagier | L15: Hoún | N15: =INDIRECT("AC36")&"|"&INDIRECT("AC37")&"|"&INDIRECT("Ad36") -> 0|0|0% | X15: 25 | Y15: Elfenmagier | AA15: 2000 | AB15: 4400 | AC15: 380 | AD15: 220 | AE15: 1000 | AF15: =AA11*321+1*AB11*399+1*AC11*573+1*AD11*882 -> 1728330 | AK15: 26.99 | AM15: =1+3*ROUNDDOWN(ROW(AM15)/2.000001,) -> 22 | AN15: =SUM(AM$1:AM15) -> 162
A16: Einheitenpunkte | C16: =IF(SUM(C2:C15)=0,0,ROUNDUP(0.6*(((AA29+Z29)^(1/1.96)+(Z28+AA28)^(1/1.005))^0.6)*((AA29)^(1/1.96)+(AA28)^(1/1.005))^0.6/(((AA29)^(1/1.96)+(AA28)^(1/1.005))^0.6+((Z29)^(1/1.96)+(Z28)^(1/1.005))^0.6),)) -> 0 | E16: GesamtPunkte | G16: =Z30 -> 0 | L16: Naéla | N16: =INDIRECT("AC38")&"|"&INDIRECT("Ad38") -> 0|0% | X16: mana | AM16: =1+3*ROUNDDOWN(ROW(AM16)/2.000001,) -> 22 | AN16: =SUM(AM$1:AM16) -> 184
A17: Truppenstärke | C17: =IF(SUM(C2:C15)=0,0,SUMPRODUCT(AK2:AK15,C2:C15)) -> 0 | X17: =IF(G2=0,0,(AE17)*0.5*(G2^2+G2)) -> 0 | Y17: Baum des Lebens | AA17: 6.1 | AB17: 3.6 | AC17: 0 | AD17: 0 | AE17: 100.8 | AF17: =IF(G2=0,0,(AA17*1*321+AB17*1*399+AC17*1*573+AD17*1*882)*(G2^2+G2)*(2*G2+1)/6) -> 0 | AM17: =1+3*ROUNDDOWN(ROW(AM17)/2.000001,) -> 25 | AN17: =SUM(AM$1:AM17) -> 209
F18: Itemsets | J18: Aktives Itemset: | L18: 1 | X18: =IF(G3=0,0,(AE18)*0.5*(G3^2+G3)) -> 0 | Y18: Kräuterschule | AA18: 1 | AB18: 1.087 | AC18: 0 | AD18: 0 | AE18: 46.084 | AF18: =IF(G3=0,0,(AA18*1*321+AB18*1*399+AC18*1*573+AD18*1*882)*(G3^2+G3)*(2*G3+1)/6) -> 0 | AM18: =1+3*ROUNDDOWN(ROW(AM18)/2.000001,) -> 25 | AN18: =SUM(AM$1:AM18) -> 234
A19: Abenteuer-Rechner | F19: Nummer | G19: Name | J19: Bonus des aktven Itemsets | X19: =IF(G4=0,0,(AE19)*0.5*(G4^2+G4)) -> 0 | Y19: Kristallhöhle | AA19: 1.19 | AB19: 1.038 | AC19: 0 | AD19: 0 | AE19: 48.964 | AF19: =IF(G4=0,0,(AA19*1*321+AB19*1*399+AC19*1*573+AD19*1*882)*(G4^2+G4)*(2*G4+1)/6) -> 0 | AM19: =1+3*ROUNDDOWN(ROW(AM19)/2.000001,) -> 28 | AN19: =SUM(AM$1:AM19) -> 262
A20: Abenteuerwesen im Angriff | C20: =IF(SUM(C2:C15)=0,0, ROUNDDOWN((1+M12*0.0014)*(1+G27*0.0014)*SUMPRODUCT(AK2:AK15,C2:C15) * (1 + 0.375/(1+2^((IF(SUM(C2:C15)>10000,10000,SUM(C2:C15))-600)/200)))*(1-(ABS(SUMPRODUCT(AA54:AA60,AC54:AC60)-SUMPRODUCT(AB54:AB60,AC54:AC60))/(SUMPRODUCT(AA54:AA60,AC54:AC60)+SUMPRODUCT(AB54:AB60,AC54:AC60)))^2),)) -> 0 | F20: 1 | J20: Angriff | K20: =IF(L$18=1,Itemsets!B10,IF(L$18=2,Itemsets!K10,IF(L$18=3,Itemsets!B21,IF(L$18=4,Itemsets!K21,IF(L$18=5,Itemsets!B32,IF(L$18=6,Itemsets!K32,IF(L$18=7,Itemsets!B43,0))))))) -> 0 | X20: =IF(G5=0,0,(AE20)*0.5*(G5^2+G5)) -> 0 | Y20: Steinwurzel | AA20: 6 | AB20: 18 | AC20: 0 | AD20: 0 | AE20: 144 | AF20: =IF(G5=0,0,(AA20*1*321+AB20*1*399+AC20*1*573+AD20*1*882)*(G5^2+G5)*(2*G5+1)/6) -> 0 | AM20: =1+3*ROUNDDOWN(ROW(AM20)/2.000001,) -> 28 | AN20: =SUM(AM$1:AM20) -> 290
A21: Abenteuerwesen in Vert. | C21: =IF(SUM(C2:C15)=0,0, ROUNDDOWN((1+M13*0.00235)*(1+I27*0.00235)*(1+G8*0.00235)*SUMPRODUCT(AK2:AK15,C2:C15) * (1 + 0.375/(1+2^((IF(SUM(C2:C15)>10000,10000,SUM(C2:C15))-600)/200)))*(1-(ABS(SUMPRODUCT(AA54:AA60,AC54:AC60)-SUMPRODUCT(AB54:AB60,AC54:AC60))/(SUMPRODUCT(AA54:AA60,AC54:AC60)+SUMPRODUCT(AB54:AB60,AC54:AC60)))^2),)) -> 0 | F21: 2 | J21: Verteidigung | K21: =IF(L$18=1,Itemsets!C10,IF(L$18=2,Itemsets!L10,IF(L$18=3,Itemsets!C21,IF(L$18=4,Itemsets!L21,IF(L$18=5,Itemsets!C32,IF(L$18=6,Itemsets!L32,IF(L$18=7,Itemsets!C43,0))))))) -> 0 | X21: =IF(G6=0,0,(AE21)*0.5*(G6^2+G6)) -> 0 | Y21: Harzader | AA21: 35 | AB21: 18 | AC21: 4 | AD21: 0 | AE21: 216 | AF21: =IF(G6=0,0,(AA21*1*321+AB21*1*399+AC21*1*573+AD21*1*882)*(G6^2+G6)*(2*G6+1)/6) -> 0 | AM21: =1+3*ROUNDDOWN(ROW(AM21)/2.000001,) -> 31 | AN21: =SUM(AM$1:AM21) -> 321
F22: 3 | J22: Essenzen | K22: =IF(L$18=1,Itemsets!D10,IF(L$18=2,Itemsets!M10,IF(L$18=3,Itemsets!D21,IF(L$18=4,Itemsets!M21,IF(L$18=5,Itemsets!D32,IF(L$18=6,Itemsets!M32,IF(L$18=7,Itemsets!D43,0))))))) -> 0 | X22: =IF(G7=0,0,(AE22)*0.5*(G7^2+G7)) -> 0 | Y22: Schamanenhütte | AA22: 10 | AB22: 12 | AC22: 90 | AD22: 100 | AE22: 576 | AF22: =IF(G7=0,0,(AA22*1*321+AB22*1*399+AC22*1*573+AD22*1*882)*(G7^2+G7)*(2*G7+1)/6) -> 0 | AM22: =1+3*ROUNDDOWN(ROW(AM22)/2.000001,) -> 31 | AN22: =SUM(AM$1:AM22) -> 352
A23: Just 4 Info | F23: 4 | J23: Kristalle | K23: =IF(L$18=1,Itemsets!E10,IF(L$18=2,Itemsets!N10,IF(L$18=3,Itemsets!E21,IF(L$18=4,Itemsets!N21,IF(L$18=5,Itemsets!E32,IF(L$18=6,Itemsets!N32,IF(L$18=7,Itemsets!E43,0))))))) -> 0 | X23: =IF(G8=0,0,(AE23)*0.5*(G8^2+G8)) -> 0 | Y23: Steinmantel | AA23: 15 | AB23: 20 | AC23: 10 | AD23: 0 | AE23: 172.813 | AF23: =IF(G8=0,0,(AA23*1*321+AB23*1*399+AC23*1*573+AD23*1*882)*(G8^2+G8)*(2*G8+1)/6) -> 0 | AM23: =1+3*ROUNDDOWN(ROW(AM23)/2.000001,) -> 34 | AN23: =SUM(AM$1:AM23) -> 386
A24: Insgesamt ausgegebene Rohstoffe | F24: 5 | J24: Steine | K24: =IF(L$18=1,Itemsets!F10,IF(L$18=2,Itemsets!O10,IF(L$18=3,Itemsets!F21,IF(L$18=4,Itemsets!O21,IF(L$18=5,Itemsets!F32,IF(L$18=6,Itemsets!O32,IF(L$18=7,Itemsets!F43,0))))))) -> 0 | X24: =IF(G9=0,0,(AE24)*0.5*(G9^2+G9)) -> 0 | Y24: Kriegsbrunnnen | AA24: 1080 | AB24: 288 | AC24: 288 | AD24: 78 | AE24: 2304 | AF24: =IF(G9=0,0,(AA24*1*321+AB24*1*399+AC24*1*573+AD24*1*882)*(G9^2+G9)*(2*G9+1)/6) -> 0 | AM24: =1+3*ROUNDDOWN(ROW(AM24)/2.000001,) -> 34 | AN24: =SUM(AM$1:AM24) -> 420
A25: Essenzen | B25: =SUMPRODUCT(AF32:AF40,AA17:AA25)+SUMPRODUCT(C2:C15,AA2:AA15) -> 0 | F25: 6 | J25: Gold | K25: =IF(L$18=1,Itemsets!G10,IF(L$18=2,Itemsets!P10,IF(L$18=3,Itemsets!G21,IF(L$18=4,Itemsets!P21,IF(L$18=5,Itemsets!G32,IF(L$18=6,Itemsets!P32,IF(L$18=7,Itemsets!G43,0))))))) -> 0 | X25: =IF(G10=0,0,(AE25)*0.5*(G10^2+G10)) -> 0 | Y25: Palasthof | AA25: 270 | AB25: 1008 | AC25: 288 | AD25: 78 | AE25: 2304 | AF25: =IF(G10=0,0,(AA25*1*321+AB25*1*399+AC25*1*573+AD25*1*882)*(G10^2+G10)*(2*G10+1)/6) -> 0 | AM25: =1+3*ROUNDDOWN(ROW(AM25)/2.000001,) -> 37 | AN25: =SUM(AM$1:AM25) -> 457
A26: Kristall | B26: =SUMPRODUCT(AF32:AF40,AB17:AB25)+SUMPRODUCT(C2:C15,AB2:AB15) -> 0 | F26: 7 | J26: Mana | K26: =IF(L$18=1,Itemsets!H10,IF(L$18=2,Itemsets!Q10,IF(L$18=3,Itemsets!H21,IF(L$18=4,Itemsets!Q21,IF(L$18=5,Itemsets!H32,IF(L$18=6,Itemsets!Q32,IF(L$18=7,Itemsets!H43,0))))))) -> 0 | AM26: =1+3*ROUNDDOWN(ROW(AM26)/2.000001,) -> 37 | AN26: =SUM(AM$1:AM26) -> 494
A27: Steine | B27: =SUMPRODUCT(AF32:AF40,AC17:AC25)+SUMPRODUCT(C2:C15,AC2:AC15) -> 0 | Z27: gebäude | AA27: einheten | AM27: =1+3*ROUNDDOWN(ROW(AM27)/2.000001,) -> 40 | AN27: =SUM(AM$1:AM27) -> 534
A28: Gold | B28: =SUMPRODUCT(AF32:AF40,AD17:AD25)+SUMPRODUCT(C2:C15,AD2:AD15) -> 0 | H28: Rohstoff-Rechner | Y28: Mana | Z28: =AB29*SUM(X17:X25) -> 0 | AA28: =AB29*SUMPRODUCT(AE2:AE15,C2:C15) -> 0 | AB28: Manawertigkeit | AM28: =1+3*ROUNDDOWN(ROW(AM28)/2.000001,) -> 40 | AN28: =SUM(AM$1:AM28) -> 574
A29: Mana | B29: =SUMPRODUCT(AE32:AE40,AE17:AE25)+SUMPRODUCT(C2:C15,AE2:AE15) -> 0 | J29: Essenzen | K29: Kristall | L29: Stein | M29: Gold | N29: Mana | Y29: Res | Z29: =SUM(AF17:AF25) -> 0 | AA29: =SUMPRODUCT(C2:C15,AF2:AF15) -> 0 | AB29: 0.05 | AM29: =1+3*ROUNDDOWN(ROW(AM29)/2.000001,) -> 43 | AN29: =SUM(AM$1:AM29) -> 617
A30: Pilzlimit | B30: =SUMPRODUCT(C2:C15,X2:X15) -> 0 | H30: Derzeit vorhanden | Y30: Punkte | Z30: =ROUNDUP((1+G13^0.6/30)*0.6*((AA29+Z29)^(1/1.96)+(Z28+AA28)^(1/1.005))^0.6,) -> 0 | AM30: =1+3*ROUNDDOWN(ROW(AM30)/2.000001,) -> 43 | AN30: =SUM(AM$1:AM30) -> 660
A31: Magier XP | B31: =IF(G13=0,0,150*G13+INDIRECT("AN"&G13)) -> 0 | C31: =150*(G13+1)+INDIRECT("AN"&G13+1) -> 151 | H31: Zielmenge | AM31: =1+3*ROUNDDOWN(ROW(AM31)/2.000001,) -> 46 | AN31: =SUM(AM$1:AM31) -> 706
H32: Uhrzeit | J32: =IF(J31>J30, TIME(Übersicht!Y37+ROUNDDOWN((J31-J30)/K3*3/60,), Übersicht!Z37+MOD(ROUNDUP((J31-J30)/K3,)*3,60)-MOD(Übersicht!Z37,3),),Übersicht!Z35) -> jetzt | K32: =IF(K31>K30, TIME(Übersicht!Y37+ROUNDDOWN((K31-K30)/K4*3/60,), Übersicht!Z37+MOD(ROUNDUP((K31-K30)/K4,)*3,60)-MOD(Übersicht!Z37,3),),Übersicht!Z35) -> jetzt | L32: =IF(L31>L30, TIME(Übersicht!Y37+ROUNDDOWN((L31-L30)/K5*3/60,), Übersicht!Z37+MOD(ROUNDUP((L31-L30)/K5,)*3,60)-MOD(Übersicht!Z37,3),),Übersicht!Z35) -> jetzt | M32: =IF(M31>M30, TIME(Übersicht!Y37+ROUNDDOWN((M31-M30)/K6*3/60,), Übersicht!Z37+MOD(ROUNDUP((M31-M30)/K6,)*3,60)-MOD(Übersicht!Z37,3),),Übersicht!Z35) -> jetzt | N32: =IF(N31>N30, TIME(Übersicht!Y37+ROUNDDOWN((N31-N30)/K2*3/60,), Übersicht!Z37+MOD(ROUNDUP((N31-N30)/K2,)*3,60)-MOD(Übersicht!Z37,3),),Übersicht!Z35) -> jetzt | AE32: =0.5*(G2^2+G2) -> 0 | AF32: =(G2^2+G2)*(2*G2+1)/6 -> 0 | AM32: =1+3*ROUNDDOWN(ROW(AM32)/2.000001,) -> 46 | AN32: =SUM(AM$1:AM32) -> 752
H33: Datum | J33: =IF(J31=0,DAY(TODAY()) & "." & MONTH(TODAY()) & "." & YEAR(TODAY()),DAY(TODAY()+ROUNDDOWN(((J31-J30)/K3*3+$Y$38)/1440,))&"."& MONTH(TODAY()+ROUNDDOWN(((J31-J30)/K3*3+$Y$38)/1440,))&"." & YEAR(TODAY()+ROUNDDOWN((J31-J30)/K3*3/1440,))) -> 3.11.2011 | K33: =IF(K31=0,DAY(TODAY()) & "." & MONTH(TODAY()) & "." & YEAR(TODAY()),DAY(TODAY()+ROUNDDOWN(((K31-K30)/K4*3+$Y$38)/1440,))&"."& MONTH(TODAY()+ROUNDDOWN(((K31-K30)/K4*3+$Y$38)/1440,))&"." & YEAR(TODAY()+ROUNDDOWN((K31-K30)/K4*3/1440,))) -> 3.11.2011 | L33: =IF(L31=0,DAY(TODAY()) & "." & MONTH(TODAY()) & "." & YEAR(TODAY()),DAY(TODAY()+ROUNDDOWN(((L31-L30)/K5*3+$Y$38)/1440,))&"."& MONTH(TODAY()+ROUNDDOWN(((L31-L30)/K5*3+$Y$38)/1440,))&"." & YEAR(TODAY()+ROUNDDOWN((L31-L30)/K5*3/1440,))) -> 3.11.2011 | M33: =IF(M31=0,DAY(TODAY()) & "." & MONTH(TODAY()) & "." & YEAR(TODAY()),DAY(TODAY()+ROUNDDOWN(((M31-M30)/K6*3+$Y$38)/1440,))&"."& MONTH(TODAY()+ROUNDDOWN(((M31-M30)/K6*3+$Y$38)/1440,))&"." & YEAR(TODAY()+ROUNDDOWN((M31-M30)/K6*3/1440,))) -> 3.11.2011 | N33: =IF(N31=0,DAY(TODAY()) & "." & MONTH(TODAY()) & "." & YEAR(TODAY()),DAY(TODAY()+ROUNDDOWN(((N31-N30)/K2*3+$Y$38)/1440,))&"."& MONTH(TODAY()+ROUNDDOWN(((N31-N30)/K2*3+$Y$38)/1440,))&"." & YEAR(TODAY()+ROUNDDOWN((N31-N30)/K2*3/1440,))) -> 3.11.2011 | AB33: Boni Fähigkeiten | AE33: =0.5*(G3^2+G3) -> 0 | AF33: =(G3^2+G3)*(2*G3+1)/6 -> 0 | AM33: =1+3*ROUNDDOWN(ROW(AM33)/2.000001,) -> 49 | AN33: =SUM(AM$1:AM33) -> 801
Y34: Für Energierechner | AB34: essenzen | AC34: =ROUND(0.1*M14,) -> 0 | AD34: =0.15*M14&"%" -> 0% | AE34: =0.5*(G4^2+G4) -> 0 | AF34: =(G4^2+G4)*(2*G4+1)/6 -> 0 | AM34: =1+3*ROUNDDOWN(ROW(AM34)/2.000001,) -> 49 | AN34: =SUM(AM$1:AM34) -> 850
Y35: Energie bereits erreicht | Z35: jetzt | AB35: kristall | AC35: =ROUND(0.089*M14,) -> 0 | AE35: =0.5*(G5^2+G5) -> 0 | AF35: =(G5^2+G5)*(2*G5+1)/6 -> 0 | AM35: =1+3*ROUNDDOWN(ROW(AM35)/2.000001,) -> 52 | AN35: =SUM(AM$1:AM35) -> 902
Y36: =NOW() -> 40850.522 | AB36: stein | AC36: =ROUND(0.04*M15,) -> 0 | AD36: =0.15*M15&"%" -> 0% | AE36: =0.5*(G6^2+G6) -> 0 | AF36: =(G6^2+G6)*(2*G6+1)/6 -> 0 | AM36: =1+3*ROUNDDOWN(ROW(AM36)/2.000001,) -> 52 | AN36: =SUM(AM$1:AM36) -> 954
Y37: =HOUR(Y36) -> 12 | Z37: =MINUTE(Y36) -> 31 | AB37: gold | AC37: =ROUND(0.02*M15,) -> 0 | AE37: =0.5*(G7^2+G7) -> 0 | AF37: =(G7^2+G7)*(2*G7+1)/6 -> 0 | AM37: =1+3*ROUNDDOWN(ROW(AM37)/2.000001,) -> 55 | AN37: =SUM(AM$1:AM37) -> 1009
X38: Minuten: | Y38: =Y37*60+Z37 -> 751 | AB38: mana | AC38: =ROUND(0.01*M16,) -> 0 | AD38: =0.1*M16&"%" -> 0% | AE38: =0.5*(G8^2+G8) -> 0 | AF38: =(G8^2+G8)*(2*G8+1)/6 -> 0 | AM38: =1+3*ROUNDDOWN(ROW(AM38)/2.000001,) -> 55 | AN38: =SUM(AM$1:AM38) -> 1064
AE39: =0.5*(G9^2+G9) -> 0 | AF39: =(G9^2+G9)*(2*G9+1)/6 -> 0 | AM39: =1+3*ROUNDDOWN(ROW(AM39)/2.000001,) -> 58 | AN39: =SUM(AM$1:AM39) -> 1122
AE40: =0.5*(G10^2+G10) -> 0 | AF40: =(G10^2+G10)*(2*G10+1)/6 -> 0 | AM40: =1+3*ROUNDDOWN(ROW(AM40)/2.000001,) -> 58 | AN40: =SUM(AM$1:AM40) -> 1180
AM41: =1+3*ROUNDDOWN(ROW(AM41)/2.000001,) -> 61 | AN41: =SUM(AM$1:AM41) -> 1241
AM42: =1+3*ROUNDDOWN(ROW(AM42)/2.000001,) -> 61 | AN42: =SUM(AM$1:AM42) -> 1302
AA43: =ROUNDUP(J$3*#REF!/100,) -> #REF! | AB43: =ROUNDUP(J$4*J20/100,) -> #VALUE! | AC43: =ROUNDUP(J$5*K20/100,) -> 0 | AD43: =ROUNDUP(J$6*M20/100,) -> 0 | AE43: =ROUNDUP(J$2*N20/100,) -> 0 | AM43: =1+3*ROUNDDOWN(ROW(AM43)/2.000001,) -> 64 | AN43: =SUM(AM$1:AM43) -> 1366
AA44: =ROUNDUP(J$3*#REF!/100,) -> #REF! | AB44: =ROUNDUP(J$4*J21/100,) -> #VALUE! | AC44: =ROUNDUP(J$5*K21/100,) -> 0 | AD44: =ROUNDUP(J$6*M21/100,) -> 0 | AE44: =ROUNDUP(J$2*N21/100,) -> 0 | AM44: =1+3*ROUNDDOWN(ROW(AM44)/2.000001,) -> 64 | AN44: =SUM(AM$1:AM44) -> 1430
AA45: =ROUNDUP(J$3*#REF!/100,) -> #REF! | AB45: =ROUNDUP(J$4*J22/100,) -> #VALUE! | AC45: =ROUNDUP(J$5*K22/100,) -> 0 | AD45: =ROUNDUP(J$6*M22/100,) -> 0 | AE45: =ROUNDUP(J$2*N22/100,) -> 0 | AM45: =1+3*ROUNDDOWN(ROW(AM45)/2.000001,) -> 67 | AN45: =SUM(AM$1:AM45) -> 1497
AA46: =ROUNDUP(J$3*#REF!/100,) -> #REF! | AB46: =ROUNDUP(J$4*J23/100,) -> #VALUE! | AC46: =ROUNDUP(J$5*K23/100,) -> 0 | AD46: =ROUNDUP(J$6*M23/100,) -> 0 | AE46: =ROUNDUP(J$2*N23/100,) -> 0 | AM46: =1+3*ROUNDDOWN(ROW(AM46)/2.000001,) -> 67 | AN46: =SUM(AM$1:AM46) -> 1564
AA47: =ROUNDUP(J$3*#REF!/100,) -> #REF! | AB47: =ROUNDUP(J$4*J24/100,) -> #VALUE! | AC47: =ROUNDUP(J$5*K24/100,) -> 0 | AD47: =ROUNDUP(J$6*M24/100,) -> 0 | AE47: =ROUNDUP(J$2*N24/100,) -> 0 | AM47: =1+3*ROUNDDOWN(ROW(AM47)/2.000001,) -> 70 | AN47: =SUM(AM$1:AM47) -> 1634
AA48: =ROUNDUP(J$3*#REF!/100,) -> #REF! | AB48: =ROUNDUP(J$4*J25/100,) -> #VALUE! | AC48: =ROUNDUP(J$5*K25/100,) -> 0 | AD48: =ROUNDUP(J$6*M25/100,) -> 0 | AE48: =ROUNDUP(J$2*N25/100,) -> 0 | AM48: =1+3*ROUNDDOWN(ROW(AM48)/2.000001,) -> 70 | AN48: =SUM(AM$1:AM48) -> 1704
AA49: =ROUNDUP(J$3*#REF!/100,) -> #REF! | AB49: =ROUNDUP(J$4*J26/100,) -> #VALUE! | AC49: =ROUNDUP(J$5*K26/100,) -> 0 | AD49: =ROUNDUP(J$6*M26/100,) -> 0 | AE49: =ROUNDUP(J$2*N26/100,) -> 0 | AM49: =1+3*ROUNDDOWN(ROW(AM49)/2.000001,) -> 73 | AN49: =SUM(AM$1:AM49) -> 1777
AA50: =SUM(AA43:AA49) -> #REF! | AB50: =SUM(AB43:AB49) -> #VALUE! | AC50: =SUM(AC43:AC49) -> 0 | AD50: =SUM(AD43:AD49) -> 0 | AE50: =SUM(AE43:AE49) -> 0 | AM50: =1+3*ROUNDDOWN(ROW(AM50)/2.000001,) -> 73 | AN50: =SUM(AM$1:AM50) -> 1850
AM51: =1+3*ROUNDDOWN(ROW(AM51)/2.000001,) -> 76 | AN51: =SUM(AM$1:AM51) -> 1926
AM52: =1+3*ROUNDDOWN(ROW(AM52)/2.000001,) -> 76 | AN52: =SUM(AM$1:AM52) -> 2002
AA53: Lebenseinheiten | AB53: schadenseinheiten | AC53: punkte | AM53: =1+3*ROUNDDOWN(ROW(AM53)/2.000001,) -> 79 | AN53: =SUM(AM$1:AM53) -> 2081
AA54: =C2 -> 0 | AB54: =C3 -> 0 | AC54: 1 | AM54: =1+3*ROUNDDOWN(ROW(AM54)/2.000001,) -> 79 | AN54: =SUM(AM$1:AM54) -> 2160
AA55: =C4 -> 0 | AB55: =C5 -> 0 | AC55: 2.2 | AM55: =1+3*ROUNDDOWN(ROW(AM55)/2.000001,) -> 82 | AN55: =SUM(AM$1:AM55) -> 2242
AA56: =C6 -> 0 | AB56: =C7 -> 0 | AC56: 3.6 | AM56: =1+3*ROUNDDOWN(ROW(AM56)/2.000001,) -> 82 | AN56: =SUM(AM$1:AM56) -> 2324
AA57: =C8 -> 0 | AB57: =C9 -> 0 | AC57: 4.8 | AM57: =1+3*ROUNDDOWN(ROW(AM57)/2.000001,) -> 85 | AN57: =SUM(AM$1:AM57) -> 2409
AA58: =C10 -> 0 | AB58: =C11 -> 0 | AC58: 6.6 | AM58: =1+3*ROUNDDOWN(ROW(AM58)/2.000001,) -> 85 | AN58: =SUM(AM$1:AM58) -> 2494
AA59: =C12 -> 0 | AB59: =C13 -> 0 | AC59: 7.6 | AM59: =1+3*ROUNDDOWN(ROW(AM59)/2.000001,) -> 88 | AN59: =SUM(AM$1:AM59) -> 2582
AA60: =C14 -> 0 | AB60: =C15 -> 0 | AC60: 10 | AM60: =1+3*ROUNDDOWN(ROW(AM60)/2.000001,) -> 88 | AN60: =SUM(AM$1:AM60) -> 2670
AM61: =1+3*ROUNDDOWN(ROW(AM61)/2.000001,) -> 91 | AN61: =SUM(AM$1:AM61) -> 2761
AM62: =1+3*ROUNDDOWN(ROW(AM62)/2.000001,) -> 91 | AN62: =SUM(AM$1:AM62) -> 2852
AM63: =1+3*ROUNDDOWN(ROW(AM63)/2.000001,) -> 94 | AN63: =SUM(AM$1:AM63) -> 2946
Y64: klicks | Z64: runen | AM64: =1+3*ROUNDDOWN(ROW(AM64)/2.000001,) -> 94 | AN64: =SUM(AM$1:AM64) -> 3040
Y65: 0 | Z65: 5 | AM65: =1+3*ROUNDDOWN(ROW(AM65)/2.000001,) -> 97 | AN65: =SUM(AM$1:AM65) -> 3137
Y66: 1 | Z66: 7 | AM66: =1+3*ROUNDDOWN(ROW(AM66)/2.000001,) -> 97 | AN66: =SUM(AM$1:AM66) -> 3234
Y67: 2 | Z67: 10 | AM67: =1+3*ROUNDDOWN(ROW(AM67)/2.000001,) -> 100 | AN67: =SUM(AM$1:AM67) -> 3334
Y68: 3 | Z68: 15 | AM68: =1+3*ROUNDDOWN(ROW(AM68)/2.000001,) -> 100 | AN68: =SUM(AM$1:AM68) -> 3434
Y69: 4 | Z69: 22 | AM69: =1+3*ROUNDDOWN(ROW(AM69)/2.000001,) -> 103 | AN69: =SUM(AM$1:AM69) -> 3537
Y70: 5 | Z70: 33 | AM70: =1+3*ROUNDDOWN(ROW(AM70)/2.000001,) -> 103 | AN70: =SUM(AM$1:AM70) -> 3640
Y71: 6 | Z71: 49 | AM71: =1+3*ROUNDDOWN(ROW(AM71)/2.000001,) -> 106 | AN71: =SUM(AM$1:AM71) -> 3746
Y72: 7 | Z72: 73 | AM72: =1+3*ROUNDDOWN(ROW(AM72)/2.000001,) -> 106 | AN72: =SUM(AM$1:AM72) -> 3852
Y73: 8 | Z73: 109 | AM73: =1+3*ROUNDDOWN(ROW(AM73)/2.000001,) -> 109 | AN73: =SUM(AM$1:AM73) -> 3961
Y74: 9 | Z74: 163 | AM74: =1+3*ROUNDDOWN(ROW(AM74)/2.000001,) -> 109 | AN74: =SUM(AM$1:AM74) -> 4070
Y75: 10 | Z75: 244 | AM75: =1+3*ROUNDDOWN(ROW(AM75)/2.000001,) -> 112 | AN75: =SUM(AM$1:AM75) -> 4182
Y76: 11 | Z76: 366 | AM76: =1+3*ROUNDDOWN(ROW(AM76)/2.000001,) -> 112 | AN76: =SUM(AM$1:AM76) -> 4294
... Y90: 25 | Z90: 106710 | AM90: =1+3*ROUNDDOWN(ROW(AM90)/2.000001,) -> 133 | AN90: =SUM(AM$1:AM90) -> 6030
Y91: 26 | AM91: =1+3*ROUNDDOWN(ROW(AM91)/2.000001,) -> 136 | AN91: =SUM(AM$1:AM91) -> 6166
Y92: 27 | AM92: =1+3*ROUNDDOWN(ROW(AM92)/2.000001,) -> 136 | AN92: =SUM(AM$1:AM92) -> 6302
Y93: 28 | Z93: 360145 | AM93: =1+3*ROUNDDOWN(ROW(AM93)/2.000001,) -> 139 | AN93: =SUM(AM$1:AM93) -> 6441
AM94: =1+3*ROUNDDOWN(ROW(AM94)/2.000001,) -> 139 | AN94: =SUM(AM$1:AM94) -> 6580
AM95: =1+3*ROUNDDOWN(ROW(AM95)/2.000001,) -> 142 | AN95: =SUM(AM$1:AM95) -> 6722
AM96: =1+3*ROUNDDOWN(ROW(AM96)/2.000001,) -> 142 | AN96: =SUM(AM$1:AM96) -> 6864
AM97: =1+3*ROUNDDOWN(ROW(AM97)/2.000001,) -> 145 | AN97: =SUM(AM$1:AM97) -> 7009
AM98: =1+3*ROUNDDOWN(ROW(AM98)/2.000001,) -> 145 | AN98: =SUM(AM$1:AM98) -> 7154
AM99: =1+3*ROUNDDOWN(ROW(AM99)/2.000001,) -> 148 | AN99: =SUM(AM$1:AM99) -> 7302
AM100: =1+3*ROUNDDOWN(ROW(AM100)/2.000001,) -> 148 | AN100: =SUM(AM$1:AM100) -> 7450
AM101: =1+3*ROUNDDOWN(ROW(AM101)/2.000001,) -> 151 | AN101: =SUM(AM$1:AM101) -> 7601
AM102: =1+3*ROUNDDOWN(ROW(AM102)/2.000001,) -> 151 | AN102: =SUM(AM$1:AM102) -> 7752
AM103: =1+3*ROUNDDOWN(ROW(AM103)/2.000001,) -> 154 | AN103: =SUM(AM$1:AM103) -> 7906
AM104: =1+3*ROUNDDOWN(ROW(AM104)/2.000001,) -> 154 | AN104: =SUM(AM$1:AM104) -> 8060
AM105: =1+3*ROUNDDOWN(ROW(AM105)/2.000001,) -> 157 | AN105: =SUM(AM$1:AM105) -> 8217
... AM2001: =1+3*ROUNDDOWN(ROW(AM2001)/2.000001,) -> 3001 | AN2001: =SUM(AM$1:AM2001) -> 3002001

Sheet KamfSimulator
A1: Einheit | B1: Angriff | C1: Verteidigung | D1: Leben | F1: Angreifer | H1: Eigene Werte | J1: Vor-Nachteile der Lebenseinheiten
A2: Kobold | B2: 1 | C2: 1 | D2: 100 | F2: Angriff | H2: =Übersicht!M12 -> 0 | J2: Einheit erhält: | K2: halben Schaden | L2: doppelten Schaden
A3: Kinder der Macht | B3: 2 | C3: 2 | D3: 50 | F3: Att-Itempunkte | H3: =Übersicht!K20 -> 0 | J3: Kobold | K3: Elfenmagier | L3: Hyst. Zentaurin
A4: Eiskrieger | B4: 4 | C4: 4 | D4: 150 | J4: Eiskrieger | K4: Kinder der Macht | L4: Wide Zentauren
A5: Hysterische Zentaurin | B5: 8 | C5: 8 | D5: 75 | G5: So wie ich sind nachts alle Katzen grau, warum nur?! | J5: Kriegspriester | K5: Hyst. Zentaurin | L5: Elfenbogenschütze
A6: Kriegspriester | B6: 7 | C6: 7 | D6: 250 | F6: Verteidiger | H6: Eigene Werte | J6: Axtschw. Zwerg | K6: Wilde Zentauren | L6: Feuerfee
A7: Wilde Zentauren | B7: 17 | C7: 17 | D7: 100 | F7: Verteidigung | H7: =Übersicht!M13 -> 0 | J7: Doppelaxtzwerg | K7: Elfenbogenschütze | L7: Baumriese
A8: Axtschwingende Zwerge | B8: 8 | C8: 8 | D8: 450 | F8: Def-Itempunkte | H8: =Übersicht!K21 -> 0 | J8: Halbriese | K8: Feuerfee | L8: Elfenmagier
A9: Elfbogenschütze | B9: 24 | C9: 24 | D9: 150 | F9: Steinmantel | H9: Eigene Stufe | J9: Bergtroll | K9: Baumriese | L9: Kinder der Macht
A10: Doppelaxtzwerg | B10: 11 | C10: 11 | D10: 650 | F10: Stufe | H10: =Übersicht!G8 -> 0
A11: Feuerfee | B11: 40 | C11: 40 | D11: 180 | J11: Vor-Nachteile der Schadenseinheiten
A12: Halbriese | B12: 15 | C12: 15 | D12: 750 | G12: Ups, da hast du dich wohl verirrt. Naja passiert auch den Besten mal ;) | J12: Einheit macht: | K12: doppelten Schaden | L12: halben Schaden
A13: Baumriese | B13: 56 | C13: 56 | D13: 200 | F13: Angreifer oder Verteidiger | J13: Kinder d. Macht | K13: Bergtrolle | L13: Eiskrieger
A14: Bergtroll | B14: 24 | C14: 24 | D14: 950 | F14: 1=Angiff | 2=Vert. | 0=sonst | H14: 0 | J14: Hyst. Zentaurin | K14: Kobolde | L14: Kriegerpriester
A15: Elfenmagier | B15: 100 | C15: 100 | D15: 225 | J15: Wilde Zentauren | K15: Eiskrieger | L15: Axtschw. Zwerge
A16: Abenteuerwesen | B16: 1 | C16: 1 | D16: 100 | J16: Elfbogenschütze | K16: Kriegerpriester | L16: Doppelaxtzwerge
J17: Feuerfee | K17: Axtschw. Zwerge | L17: Halbriesen
A18: Einheit | B18: Angreifer | E18: Verteidiger | J18: Baumriese | K18: Doppelaxtzwerge | L18: Bergtrolle
B19: Eigene Wesen | C19: Vorher | D19: Nachher | E19: Eigene Wesen | F19: Vorher | G19: Nacher | J19: Elfenmagier | K19: Halbriesen | L19: Kobolde
A20: Kobold | B20: =Übersicht!C2 -> 0 | D20: =IF(TruppenRechner!B3>0,IF(TruppenRechner!G$18=0, TruppenRechner!B3, Tabelle2!J19),) -> 0 | E20: =Übersicht!C2 -> 0 | G20: =IF(TruppenRechner!G3>0,IF(TruppenRechner!B$18=0, TruppenRechner!G3, Tabelle2!K19),) -> 0
A21: Kinder der Macht | B21: =Übersicht!C3 -> 0 | D21: =IF(TruppenRechner!B4>0,IF(TruppenRechner!G$18=0, TruppenRechner!B4, Tabelle2!J20),) -> 0 | E21: =Übersicht!C3 -> 0 | G21: =IF(TruppenRechner!G4>0,IF(TruppenRechner!B$18=0, TruppenRechner!G4, Tabelle2!K20),) -> 0
A22: Eiskrieger | B22: =Übersicht!C4 -> 0 | D22: =IF(TruppenRechner!B5>0,IF(TruppenRechner!G$18=0, TruppenRechner!B5, Tabelle2!J21),) -> 0 | E22: =Übersicht!C4 -> 0 | G22: =IF(TruppenRechner!G5>0,IF(TruppenRechner!B$18=0, TruppenRechner!G5, Tabelle2!K21),) -> 0
A23: Hysterische Zentaurin | B23: =Übersicht!C5 -> 0 | D23: =IF(TruppenRechner!B6>0,IF(TruppenRechner!G$18=0, TruppenRechner!B6, Tabelle2!J22),) -> 0 | E23: =Übersicht!C5 -> 0 | G23: =IF(TruppenRechner!G6>0,IF(TruppenRechner!B$18=0, TruppenRechner!G6, Tabelle2!K22),) -> 0
A24: Kriegspriester | B24: =Übersicht!C6 -> 0 | D24: =IF(TruppenRechner!B7>0,IF(TruppenRechner!G$18=0, TruppenRechner!B7, Tabelle2!J23),) -> 0 | E24: =Übersicht!C6 -> 0 | G24: =IF(TruppenRechner!G7>0,IF(TruppenRechner!B$18=0, TruppenRechner!G7, Tabelle2!K23),) -> 0
A25: Wilde Zentauren | B25: =Übersicht!C7 -> 0 | D25: =IF(TruppenRechner!B8>0,IF(TruppenRechner!G$18=0, TruppenRechner!B8, Tabelle2!J24),) -> 0 | E25: =Übersicht!C7 -> 0 | G25: =IF(TruppenRechner!G8>0,IF(TruppenRechner!B$18=0, TruppenRechner!G8, Tabelle2!K24),) -> 0
A26: Axtschwingende Zwerge | B26: =Übersicht!C8 -> 0 | D26: =IF(TruppenRechner!B9>0,IF(TruppenRechner!G$18=0, TruppenRechner!B9, Tabelle2!J25),) -> 0 | E26: =Übersicht!C8 -> 0 | G26: =IF(TruppenRechner!G9>0,IF(TruppenRechner!B$18=0, TruppenRechner!G9, Tabelle2!K25),) -> 0
A27: Elfbogenschütze | B27: =Übersicht!C9 -> 0 | D27: =IF(TruppenRechner!B10>0,IF(TruppenRechner!G$18=0, TruppenRechner!B10, Tabelle2!J26),) -> 0 | E27: =Übersicht!C9 -> 0 | G27: =IF(TruppenRechner!G10>0,IF(TruppenRechner!B$18=0, TruppenRechner!G10, Tabelle2!K26),) -> 0
A28: Doppelaxtzwerg | B28: =Übersicht!C10 -> 0 | D28: =IF(TruppenRechner!B11>0,IF(TruppenRechner!G$18=0, TruppenRechner!B11, Tabelle2!J27),) -> 0 | E28: =Übersicht!C10 -> 0 | G28: =IF(TruppenRechner!G11>0,IF(TruppenRechner!B$18=0, TruppenRechner!G11, Tabelle2!K27),) -> 0
A29: Feuerfee | B29: =Übersicht!C11 -> 0 | D29: =IF(TruppenRechner!B12>0,IF(TruppenRechner!G$18=0, TruppenRechner!B12, Tabelle2!J28),) -> 0 | E29: =Übersicht!C11 -> 0 | G29: =IF(TruppenRechner!G12>0,IF(TruppenRechner!B$18=0, TruppenRechner!G12, Tabelle2!K28),) -> 0
A30: Halbriese | B30: =Übersicht!C12 -> 0 | D30: =IF(TruppenRechner!B13>0,IF(TruppenRechner!G$18=0, TruppenRechner!B13, Tabelle2!J29),) -> 0 | E30: =Übersicht!C12 -> 0 | G30: =IF(TruppenRechner!G13>0,IF(TruppenRechner!B$18=0, TruppenRechner!G13, Tabelle2!K29),) -> 0
A31: Baumriese | B31: =Übersicht!C13 -> 0 | D31: =IF(TruppenRechner!B14>0,IF(TruppenRechner!G$18=0, TruppenRechner!B14, Tabelle2!J30),) -> 0 | E31: =Übersicht!C13 -> 0 | G31: =IF(TruppenRechner!G14>0,IF(TruppenRechner!B$18=0, TruppenRechner!G14, Tabelle2!K30),) -> 0
... A33: Elfenmagier | B33: =Übersicht!C15 -> 0 | D33: =IF(TruppenRechner!B16>0,IF(TruppenRechner!G$18=0, TruppenRechner!B16, Tabelle2!J32),) -> 0 | E33: =Übersicht!C15 -> 0 | G33: =IF(TruppenRechner!G16>0,IF(TruppenRechner!B$18=0, TruppenRechner!G16, Tabelle2!K32),) -> 0
A34: Abenteuerwesen | D34: =IF(TruppenRechner!B17>0,IF(TruppenRechner!G$18=0, TruppenRechner!B17, Tabelle2!J33),) -> 0 | G34: =IF(TruppenRechner!G17>0,IF(TruppenRechner!B$18=0, TruppenRechner!G17, Tabelle2!K33),) -> 0
A35: Erhaltene Pilze | B35: =Tabelle2!J15 -> 0 | E35: Wenn deine Mutter wüsste, dass du dich an solchen Orten rumtreibst, tztztz! | G35: =Tabelle2!K15 -> 0
D36: Gewinner: | E36: =IF(TruppenRechner!B18*TruppenRechner!G18=0, IF(TruppenRechner!B18>TruppenRechner!G18,B18,E18), IF(Tabelle2!V34<Tabelle2!W34, B18, E18)) -> Verteidiger
E42: Tipp: Wenn du im Land Nóthier beim Meistern des Abenteuers "Hinterhalt" deine Fähigkeiten als Hoún-Beschwörer unter Beweis stellst und im Abenteuer "Die Brücke" deine Defensivfähigkeiten demonstrierst, so wird sich dir ein neuer Weg offenbaren!

Sheet TruppenRechner
A1: Einheit | B1: Angreifer (Aus dem Kampfsimulator) | G1: Verteidiger (Aus dem Kampfsimulator)
B2: Anzahl | C2: Angriff | D2: Ohne Boni | E2: + durch Boni | F2: Leben | G2: Anzahl | H2: Verteidigung | I2: Ohne Boni | J2: + durch Boni | K2: Leben | M2: Einheit | N2: Angriff | O2: Verteidigung | P2: Leben
A3: Kobold | B3: =IF(KamfSimulator!$H$14=1,KamfSimulator!B20,KamfSimulator!C20) -> 0 | C3: =Tabelle2!C19 -> 0 | D3: =B3*N3 -> 0 | E3: =C3-D3 -> 0 | F3: =Tabelle2!D19 -> 0 | G3: =IF(KamfSimulator!$H$14=2,KamfSimulator!E20,KamfSimulator!F20) -> 0 | H3: =Tabelle2!G19 -> 0 | I3: =G3*O3 -> 0 | J3: =H3-I3 -> 0 | K3: =Tabelle2!H19 -> 0 | M3: Kobold | N3: 1 | O3: 1 | P3: 100
A4: Kinder d. Macht | B4: =IF(KamfSimulator!$H$14=1,KamfSimulator!B21,KamfSimulator!C21) -> 0 | C4: =Tabelle2!C20 -> 0 | D4: =B4*N4 -> 0 | E4: =C4-D4 -> 0 | F4: =Tabelle2!D20 -> 0 | G4: =IF(KamfSimulator!$H$14=2,KamfSimulator!E21,KamfSimulator!F21) -> 0 | H4: =Tabelle2!G20 -> 0 | I4: =G4*O4 -> 0 | J4: =H4-I4 -> 0 | K4: =Tabelle2!H20 -> 0 | M4: Kinder der Macht | N4: 2 | O4: 2 | P4: 50
A5: Eiskrieger | B5: =IF(KamfSimulator!$H$14=1,KamfSimulator!B22,KamfSimulator!C22) -> 0 | C5: =Tabelle2!C21 -> 0 | D5: =B5*N5 -> 0 | E5: =C5-D5 -> 0 | F5: =Tabelle2!D21 -> 0 | G5: =IF(KamfSimulator!$H$14=2,KamfSimulator!E22,KamfSimulator!F22) -> 0 | H5: =Tabelle2!G21 -> 0 | I5: =G5*O5 -> 0 | J5: =H5-I5 -> 0 | K5: =Tabelle2!H21 -> 0 | M5: Eiskrieger | N5: 4 | O5: 4 | P5: 150
A6: H. Zentaurin | B6: =IF(KamfSimulator!$H$14=1,KamfSimulator!B23,KamfSimulator!C23) -> 0 | C6: =Tabelle2!C22 -> 0 | D6: =B6*N6 -> 0 | E6: =C6-D6 -> 0 | F6: =Tabelle2!D22 -> 0 | G6: =IF(KamfSimulator!$H$14=2,KamfSimulator!E23,KamfSimulator!F23) -> 0 | H6: =Tabelle2!G22 -> 0 | I6: =G6*O6 -> 0 | J6: =H6-I6 -> 0 | K6: =Tabelle2!H22 -> 0 | M6: Hysterische Zentaurin | N6: 8 | O6: 8 | P6: 75
A7: Kriegspriester | B7: =IF(KamfSimulator!$H$14=1,KamfSimulator!B24,KamfSimulator!C24) -> 0 | C7: =Tabelle2!C23 -> 0 | D7: =B7*N7 -> 0 | E7: =C7-D7 -> 0 | F7: =Tabelle2!D23 -> 0 | G7: =IF(KamfSimulator!$H$14=2,KamfSimulator!E24,KamfSimulator!F24) -> 0 | H7: =Tabelle2!G23 -> 0 | I7: =G7*O7 -> 0 | J7: =H7-I7 -> 0 | K7: =Tabelle2!H23 -> 0 | M7: Kriegspriester | N7: 7 | O7: 7 | P7: 250
A8: W. Zentaurus | B8: =IF(KamfSimulator!$H$14=1,KamfSimulator!B25,KamfSimulator!C25) -> 0 | C8: =Tabelle2!C24 -> 0 | D8: =B8*N8 -> 0 | E8: =C8-D8 -> 0 | F8: =Tabelle2!D24 -> 0 | G8: =IF(KamfSimulator!$H$14=2,KamfSimulator!E25,KamfSimulator!F25) -> 0 | H8: =Tabelle2!G24 -> 0 | I8: =G8*O8 -> 0 | J8: =H8-I8 -> 0 | K8: =Tabelle2!H24 -> 0 | M8: Wilde Zentauren | N8: 17 | O8: 17 | P8: 100
A9: A. Zwerg | B9: =IF(KamfSimulator!$H$14=1,KamfSimulator!B26,KamfSimulator!C26) -> 0 | C9: =Tabelle2!C25 -> 0 | D9: =B9*N9 -> 0 | E9: =C9-D9 -> 0 | F9: =Tabelle2!D25 -> 0 | G9: =IF(KamfSimulator!$H$14=2,KamfSimulator!E26,KamfSimulator!F26) -> 0 | H9: =Tabelle2!G25 -> 0 | I9: =G9*O9 -> 0 | J9: =H9-I9 -> 0 | K9: =Tabelle2!H25 -> 0 | M9: Axtschwingende Zwerge | N9: 8 | O9: 8 | P9: 450
A10: Elfbogenschütze | B10: =IF(KamfSimulator!$H$14=1,KamfSimulator!B27,KamfSimulator!C27) -> 0 | C10: =Tabelle2!C26 -> 0 | D10: =B10*N10 -> 0 | E10: =C10-D10 -> 0 | F10: =Tabelle2!D26 -> 0 | G10: =IF(KamfSimulator!$H$14=2,KamfSimulator!E27,KamfSimulator!F27) -> 0 | H10: =Tabelle2!G26 -> 0 | I10: =G10*O10 -> 0 | J10: =H10-I10 -> 0 | K10: =Tabelle2!H26 -> 0 | M10: Elfbogenschütze | N10: 24 | O10: 24 | P10: 150
A11: Doppelaxtzwerg | B11: =IF(KamfSimulator!$H$14=1,KamfSimulator!B28,KamfSimulator!C28) -> 0 | C11: =Tabelle2!C27 -> 0 | D11: =B11*N11 -> 0 | E11: =C11-D11 -> 0 | F11: =Tabelle2!D27 -> 0 | G11: =IF(KamfSimulator!$H$14=2,KamfSimulator!E28,KamfSimulator!F28) -> 0 | H11: =Tabelle2!G27 -> 0 | I11: =G11*O11 -> 0 | J11: =H11-I11 -> 0 | K11: =Tabelle2!H27 -> 0 | M11: Doppelaxtzwerg | N11: 11 | O11: 11 | P11: 650
A12: Feuerfee | B12: =IF(KamfSimulator!$H$14=1,KamfSimulator!B29,KamfSimulator!C29) -> 0 | C12: =Tabelle2!C28 -> 0 | D12: =B12*N12 -> 0 | E12: =C12-D12 -> 0 | F12: =Tabelle2!D28 -> 0 | G12: =IF(KamfSimulator!$H$14=2,KamfSimulator!E29,KamfSimulator!F29) -> 0 | H12: =Tabelle2!G28 -> 0 | I12: =G12*O12 -> 0 | J12: =H12-I12 -> 0 | K12: =Tabelle2!H28 -> 0 | M12: Feuerfee | N12: 40 | O12: 40 | P12: 180
A13: Halbriese | B13: =IF(KamfSimulator!$H$14=1,KamfSimulator!B30,KamfSimulator!C30) -> 0 | C13: =Tabelle2!C29 -> 0 | D13: =B13*N13 -> 0 | E13: =C13-D13 -> 0 | F13: =Tabelle2!D29 -> 0 | G13: =IF(KamfSimulator!$H$14=2,KamfSimulator!E30,KamfSimulator!F30) -> 0 | H13: =Tabelle2!G29 -> 0 | I13: =G13*O13 -> 0 | J13: =H13-I13 -> 0 | K13: =Tabelle2!H29 -> 0 | M13: Halbriese | N13: 15 | O13: 15 | P13: 750
A14: Baumriese | B14: =IF(KamfSimulator!$H$14=1,KamfSimulator!B31,KamfSimulator!C31) -> 0 | C14: =Tabelle2!C30 -> 0 | D14: =B14*N14 -> 0 | E14: =C14-D14 -> 0 | F14: =Tabelle2!D30 -> 0 | G14: =IF(KamfSimulator!$H$14=2,KamfSimulator!E31,KamfSimulator!F31) -> 0 | H14: =Tabelle2!G30 -> 0 | I14: =G14*O14 -> 0 | J14: =H14-I14 -> 0 | K14: =Tabelle2!H30 -> 0 | M14: Baumriese | N14: 56 | O14: 56 | P14: 200
... A17: Abenteuerwesen | B17: =IF(KamfSimulator!$H$14=1,KamfSimulator!B34,KamfSimulator!C34) -> 0 | C17: =Tabelle2!C33 -> 0 | D17: =B17*N17 -> 0 | E17: =C17-D17 -> 0 | F17: =Tabelle2!D33 -> 0 | G17: =IF(KamfSimulator!$H$14=2,KamfSimulator!E34,KamfSimulator!F34) -> 0 | H17: =Tabelle2!G33 -> 0 | I17: =G17*O17 -> 0 | J17: =H17-I17 -> 0 | K17: =Tabelle2!H33 -> 0 | M17: Abenteuerwesen | N17: 1 | O17: 1 | P17: 100
A18: Gesamt | B18: =SUM(B3:B17) -> 0 | C18: =SUM(C3:C17) -> 0 | D18: =SUM(D3:D17) -> 0 | E18: =SUM(E3:E17) -> 0 | F18: =SUM(F3:F17) -> 0 | G18: =SUM(G3:G17) -> 0 | H18: =SUM(H3:H17) -> 0 | I18: =SUM(I3:I17) -> 0 | ... K18: =SUM(K3:K17) -> 0
A19: Truppenstärke | B19: =SUMPRODUCT(B3:B16,Übersicht!AK2:AK15) -> 0 | G19: =SUMPRODUCT(G3:G16,Übersicht!AK2:AK15) -> 0
D21: Angreifer | G21: Verteidiger
D22: Verteidigung (Fähigkeiten) | F22: =IF(KamfSimulator!H14=1,KamfSimulator!H2,KamfSimulator!G2) -> 0 | G22: Verteidigung (Fähigkeiten) | I22: =IF(KamfSimulator!H14=2,KamfSimulator!H7,KamfSimulator!G7) -> 0
D23: Verteidiungsboni Items | F23: =IF(KamfSimulator!H14=1,KamfSimulator!H3,KamfSimulator!G3) -> 0 | G23: Verteidiungsboni Items | I23: =IF(KamfSimulator!H14=2,KamfSimulator!H8,KamfSimulator!G8) -> 0
G24: Stufe Steinmantel | I24: =IF(KamfSimulator!H14=2,KamfSimulator!H10,KamfSimulator!G10) -> 0

Sheet GebäudekostenRechner
A1: Baum des Lebens | F1: Kräuterschule | K1: Kristallhöhle
A2: Stufe derzeit | B2: =Übersicht!G2 -> 0 | F2: Stufe derzeit | G2: =Übersicht!G3 -> 0 | K2: Stufe derzeit | L2: =Übersicht!G4 -> 0
A3: Ziel-Stufe | F3: Ziel-Stufe | K3: Ziel-Stufe
A4: EinzelStufe | F4: EinzelStufe | K4: EinzelStufe
A5: Kosten bis Zielstufe | C5: Kosten einer Stufe | F5: Kosten bis Zielstufe | H5: Kosten einer Stufe | K5: Kosten bis Zielstufe | M5: Kosten einer Stufe
A6: Essenzen | B6: =IF(B3=0, 0, IF(C2=0, ROUND(Übersicht!$AA17*((B3^2+B3)*(2*B3+1)/6-(B2^2+B2)*(2*B2+1)/6),), ROUND(Übersicht!$AA17*((B3^2+B3)*(2*B3+1)/6-(C2^2+C2)*(2*C2+1)/6),))) -> 0 | C6: Essenzen | D6: =ROUND(Übersicht!$AA17*B4^2,) -> 0 | F6: Essenzen | G6: =IF(G3=0, 0, IF(H2=0, ROUND(Übersicht!$AA18*((G3^2+G3)*(2*G3+1)/6-(G2^2+G2)*(2*G2+1)/6),), ROUND(Übersicht!$AA18*((G3^2+G3)*(2*G3+1)/6-(H2^2+H2)*(2*H2+1)/6),))) -> 0 | H6: Essenzen | I6: =ROUND(Übersicht!$AA18*G4^2,) -> 0 | K6: Essenzen | L6: =IF(L3=0, 0, IF(M2=0, ROUND(Übersicht!$AA19*((L3^2+L3)*(2*L3+1)/6-(L2^2+L2)*(2*L2+1)/6),), ROUND(Übersicht!$AA19*((L3^2+L3)*(2*L3+1)/6-(M2^2+M2)*(2*M2+1)/6),))) -> 0 | M6: Essenzen | N6: =ROUND(Übersicht!$AA19*L4^2,) -> 0
A7: Kristalle | B7: =IF(B3=0, 0, IF(C2=0, ROUND(Übersicht!$AB17*((B3^2+B3)*(2*B3+1)/6-(B2^2+B2)*(2*B2+1)/6),), ROUND(Übersicht!$AB17*((B3^2+B3)*(2*B3+1)/6-(C2^2+C2)*(2*C2+1)/6),))) -> 0 | C7: Kristalle | D7: =ROUND(Übersicht!$AB17*B4^2,) -> 0 | F7: Kristalle | G7: =IF(G3=0, 0, IF(H2=0, ROUND(Übersicht!$AB18*((G3^2+G3)*(2*G3+1)/6-(G2^2+G2)*(2*G2+1)/6),), ROUND(Übersicht!$AB18*((G3^2+G3)*(2*G3+1)/6-(H2^2+H2)*(2*H2+1)/6),))) -> 0 | H7: Kristalle | I7: =ROUND(Übersicht!$AB18*G4^2,) -> 0 | K7: Kristalle | L7: =IF(L3=0, 0, IF(M2=0, ROUND(Übersicht!$AB19*((L3^2+L3)*(2*L3+1)/6-(L2^2+L2)*(2*L2+1)/6),), ROUND(Übersicht!$AB19*((L3^2+L3)*(2*L3+1)/6-(M2^2+M2)*(2*M2+1)/6),))) -> 0 | M7: Kristalle | N7: =ROUND(Übersicht!$AB19*L4^2,) -> 0
A8: Kraftsteine | B8: =IF(B3=0, 0, IF(C2=0, ROUND(Übersicht!$AC17*((B3^2+B3)*(2*B3+1)/6-(B2^2+B2)*(2*B2+1)/6),), ROUND(Übersicht!$AC17*((B3^2+B3)*(2*B3+1)/6-(C2^2+C2)*(2*C2+1)/6),))) -> 0 | C8: Kraftsteine | D8: =ROUND(Übersicht!$AC17*B4^2,) -> 0 | F8: Kraftsteine | G8: =IF(G3=0, 0, IF(H2=0, ROUND(Übersicht!$AC18*((G3^2+G3)*(2*G3+1)/6-(G2^2+G2)*(2*G2+1)/6),), ROUND(Übersicht!$AC18*((G3^2+G3)*(2*G3+1)/6-(H2^2+H2)*(2*H2+1)/6),))) -> 0 | H8: Kraftsteine | I8: =ROUND(Übersicht!$AC18*G4^2,) -> 0 | K8: Kraftsteine | L8: =IF(L3=0, 0, IF(M2=0, ROUND(Übersicht!$AC19*((L3^2+L3)*(2*L3+1)/6-(L2^2+L2)*(2*L2+1)/6),), ROUND(Übersicht!$AC19*((L3^2+L3)*(2*L3+1)/6-(M2^2+M2)*(2*M2+1)/6),))) -> 0 | M8: Kraftsteine | N8: =ROUND(Übersicht!$AC19*L4^2,) -> 0
A9: Goldharz | B9: =IF(B3=0, 0, IF(C2=0, ROUND(Übersicht!$AD17*((B3^2+B3)*(2*B3+1)/6-(B2^2+B2)*(2*B2+1)/6),), ROUND(Übersicht!$AD17*((B3^2+B3)*(2*B3+1)/6-(C2^2+C2)*(2*C2+1)/6),))) -> 0 | C9: Goldharz | D9: =ROUND(Übersicht!$AD17*B4^2,) -> 0 | F9: Goldharz | G9: =IF(G3=0, 0, IF(H2=0, ROUND(Übersicht!$AD18*((G3^2+G3)*(2*G3+1)/6-(G2^2+G2)*(2*G2+1)/6),), ROUND(Übersicht!$AD18*((G3^2+G3)*(2*G3+1)/6-(H2^2+H2)*(2*H2+1)/6),))) -> 0 | H9: Goldharz | I9: =ROUND(Übersicht!$AD18*G4^2,) -> 0 | K9: Goldharz | L9: =IF(L3=0, 0, IF(M2=0, ROUND(Übersicht!$AD19*((L3^2+L3)*(2*L3+1)/6-(L2^2+L2)*(2*L2+1)/6),), ROUND(Übersicht!$AD19*((L3^2+L3)*(2*L3+1)/6-(M2^2+M2)*(2*M2+1)/6),))) -> 0 | M9: Goldharz | N9: =ROUND(Übersicht!$AD19*L4^2,) -> 0
A10: Mana | B10: =IF(B3=0, 0, IF(C2=0, ROUND(Übersicht!$AE17*(0.5*(B3^2+B3)-0.5*(B2^2+B2)),), ROUND(Übersicht!$AE17*(0.5*(B3^2+B3)-0.5*(C2^2+C2)),))) -> 0 | C10: Mana | D10: =ROUND(Übersicht!$AE17*B4,) -> 0 | F10: Mana | G10: =IF(G3=0, 0, IF(H2=0, ROUND(Übersicht!$AE18*(0.5*(G3^2+G3)-0.5*(G2^2+G2)),), ROUND(Übersicht!$AE18*(0.5*(G3^2+G3)-0.5*(H2^2+H2)),))) -> 0 | H10: Mana | I10: =ROUND(Übersicht!$AE18*G4,) -> 0 | K10: Mana | L10: =IF(L3=0, 0, IF(M2=0, ROUND(Übersicht!$AE19*(0.5*(L3^2+L3)-0.5*(L2^2+L2)),), ROUND(Übersicht!$AE19*(0.5*(L3^2+L3)-0.5*(M2^2+M2)),))) -> 0 | M10: Mana | N10: =ROUND(Übersicht!$AE19*L4,) -> 0
A12: Steinwurzel | F12: Harzader | K12: Schamanenhütte
A13: Stufe derzeit | B13: =Übersicht!G5 -> 0 | F13: Stufe derzeit | G13: =Übersicht!G6 -> 0 | K13: Stufe derzeit | L13: =Übersicht!G7 -> 0
A14: Ziel-Stufe | F14: Ziel-Stufe | H14: Wenn der Hahn kräht auf dem Mist, dann ändert sich das Wetter oder es bleibt wie es ist. | K14: Ziel-Stufe
A15: EinzelStufe | F15: EinzelStufe | K15: EinzelStufe
A16: Kosten bis Zielstufe | C16: Kosten einer Stufe | F16: Kosten bis Zielstufe | H16: Kosten einer Stufe | K16: Kosten bis Zielstufe | M16: Kosten einer Stufe
A17: Essenzen | B17: =IF(B14=0, 0, IF(C13=0, ROUND(Übersicht!$AA20*((B14^2+B14)*(2*B14+1)/6-(B13^2+B13)*(2*B13+1)/6),), ROUND(Übersicht!$AA20*((B14^2+B14)*(2*B14+1)/6-(C13^2+C13)*(2*C13+1)/6),))) -> 0 | C17: Essenzen | D17: =ROUND(Übersicht!$AA20*B15^2,) -> 0 | F17: Essenzen | G17: =IF(G14=0, 0, IF(H13=0, ROUND(Übersicht!$AA21*((G14^2+G14)*(2*G14+1)/6-(G13^2+G13)*(2*G13+1)/6),), ROUND(Übersicht!$AA21*((G14^2+G14)*(2*G14+1)/6-(H13^2+H13)*(2*H13+1)/6),))) -> 0 | H17: Essenzen | I17: =ROUND(Übersicht!$AA21*G15^2,) -> 0 | K17: Essenzen | L17: =IF(L14=0, 0, IF(M13=0, ROUND(Übersicht!$AA22*((L14^2+L14)*(2*L14+1)/6-(L13^2+L13)*(2*L13+1)/6),), ROUND(Übersicht!$AA22*((L14^2+L14)*(2*L14+1)/6-(M13^2+M13)*(2*M13+1)/6),))) -> 0 | M17: Essenzen | N17: =ROUND(Übersicht!$AA22*L15^2,) -> 0
A18: Kristalle | B18: =IF(B14=0, 0, IF(C13=0, ROUND(Übersicht!$AB20*((B14^2+B14)*(2*B14+1)/6-(B13^2+B13)*(2*B13+1)/6),), ROUND(Übersicht!$AB20*((B14^2+B14)*(2*B14+1)/6-(C13^2+C13)*(2*C13+1)/6),))) -> 0 | C18: Kristalle | D18: =ROUND(Übersicht!$AB20*B15^2,) -> 0 | F18: Kristalle | G18: =IF(G14=0, 0, IF(H13=0, ROUND(Übersicht!$AB21*((G14^2+G14)*(2*G14+1)/6-(G13^2+G13)*(2*G13+1)/6),), ROUND(Übersicht!$AB21*((G14^2+G14)*(2*G14+1)/6-(H13^2+H13)*(2*H13+1)/6),))) -> 0 | H18: Kristalle | I18: =ROUND(Übersicht!$AB21*G15^2,) -> 0 | K18: Kristalle | L18: =IF(L14=0, 0, IF(M13=0, ROUND(Übersicht!$AB22*((L14^2+L14)*(2*L14+1)/6-(L13^2+L13)*(2*L13+1)/6),), ROUND(Übersicht!$AB22*((L14^2+L14)*(2*L14+1)/6-(M13^2+M13)*(2*M13+1)/6),))) -> 0 | M18: Kristalle | N18: =ROUND(Übersicht!$AB22*L15^2,) -> 0
A19: Kraftsteine | B19: =IF(B14=0, 0, IF(C13=0, ROUND(Übersicht!$AC20*((B14^2+B14)*(2*B14+1)/6-(B13^2+B13)*(2*B13+1)/6),), ROUND(Übersicht!$AC20*((B14^2+B14)*(2*B14+1)/6-(C13^2+C13)*(2*C13+1)/6),))) -> 0 | C19: Kraftsteine | D19: =ROUND(Übersicht!$AC20*B15^2,) -> 0 | F19: Kraftsteine | G19: =IF(G14=0, 0, IF(H13=0, ROUND(Übersicht!$AC21*((G14^2+G14)*(2*G14+1)/6-(G13^2+G13)*(2*G13+1)/6),), ROUND(Übersicht!$AC21*((G14^2+G14)*(2*G14+1)/6-(H13^2+H13)*(2*H13+1)/6),))) -> 0 | H19: Kraftsteine | I19: =ROUND(Übersicht!$AC21*G15^2,) -> 0 | K19: Kraftsteine | L19: =IF(L14=0, 0, IF(M13=0, ROUND(Übersicht!$AC22*((L14^2+L14)*(2*L14+1)/6-(L13^2+L13)*(2*L13+1)/6),), ROUND(Übersicht!$AC22*((L14^2+L14)*(2*L14+1)/6-(M13^2+M13)*(2*M13+1)/6),))) -> 0 | M19: Kraftsteine | N19: =ROUND(Übersicht!$AC22*L15^2,) -> 0
A20: Goldharz | B20: =IF(B14=0, 0, IF(C13=0, ROUND(Übersicht!$AD20*((B14^2+B14)*(2*B14+1)/6-(B13^2+B13)*(2*B13+1)/6),), ROUND(Übersicht!$AD20*((B14^2+B14)*(2*B14+1)/6-(C13^2+C13)*(2*C13+1)/6),))) -> 0 | C20: Goldharz | D20: =ROUND(Übersicht!$AD20*B15^2,) -> 0 | F20: Goldharz | G20: =IF(G14=0, 0, IF(H13=0, ROUND(Übersicht!$AD21*((G14^2+G14)*(2*G14+1)/6-(G13^2+G13)*(2*G13+1)/6),), ROUND(Übersicht!$AD21*((G14^2+G14)*(2*G14+1)/6-(H13^2+H13)*(2*H13+1)/6),))) -> 0 | H20: Goldharz | I20: =ROUND(Übersicht!$AD21*G15^2,) -> 0 | K20: Goldharz | L20: =IF(L14=0, 0, IF(M13=0, ROUND(Übersicht!$AD22*((L14^2+L14)*(2*L14+1)/6-(L13^2+L13)*(2*L13+1)/6),), ROUND(Übersicht!$AD22*((L14^2+L14)*(2*L14+1)/6-(M13^2+M13)*(2*M13+1)/6),))) -> 0 | M20: Goldharz | N20: =ROUND(Übersicht!$AD22*L15^2,) -> 0
A21: Mana | B21: =IF(B14=0, 0, IF(C13=0, ROUND(Übersicht!$AE20*(0.5*(B14^2+B14)-0.5*(B13^2+B13)),), ROUND(Übersicht!$AE20*(0.5*(B14^2+B14)-0.5*(C13^2+C13)),))) -> 0 | C21: Mana | D21: =ROUND(Übersicht!$AE20*B15,) -> 0 | F21: Mana | G21: =IF(G14=0, 0, IF(H13=0, ROUND(Übersicht!$AE21*(0.5*(G14^2+G14)-0.5*(G13^2+G13)),), ROUND(Übersicht!$AE21*(0.5*(G14^2+G14)-0.5*(H13^2+H13)),))) -> 0 | H21: Mana | I21: =ROUND(Übersicht!$AE21*G15,) -> 0 | K21: Mana | L21: =IF(L14=0, 0, IF(M13=0, ROUND(Übersicht!$AE22*(0.5*(L14^2+L14)-0.5*(L13^2+L13)),), ROUND(Übersicht!$AE22*(0.5*(L14^2+L14)-0.5*(M13^2+M13)),))) -> 0 | M21: Mana | N21: =ROUND(Übersicht!$AE22*L15,) -> 0
A23: Steinmantel | F23: Kriegsbrunnen | K23: Palasthof
A24: Stufe derzeit | B24: =Übersicht!G8 -> 0 | F24: Stufe derzeit | G24: =Übersicht!G9 -> 0 | K24: Stufe derzeit | L24: =Übersicht!G10 -> 0
A25: Ziel-Stufe | F25: Ziel-Stufe | K25: Ziel-Stufe
A26: EinzelStufe | F26: EinzelStufe | K26: EinzelStufe
A27: Kosten bis Zielstufe | C27: Kosten einer Stufe | F27: Kosten bis Zielstufe | H27: Kosten einer Stufe | K27: Kosten bis Zielstufe | M27: Kosten einer Stufe
A28: Essenzen | B28: =IF(B25=0, 0, IF(C24=0, ROUND(Übersicht!$AA23*((B25^2+B25)*(2*B25+1)/6-(B24^2+B24)*(2*B24+1)/6),), ROUND(Übersicht!$AA23*((B25^2+B25)*(2*B25+1)/6-(C24^2+C24)*(2*C24+1)/6),))) -> 0 | C28: Essenzen | D28: =ROUND(Übersicht!$AA23*B26^2,) -> 0 | F28: Essenzen | G28: =IF(G25=0, 0, IF(H24=0, ROUND(Übersicht!$AA24*((G25^2+G25)*(2*G25+1)/6-(G24^2+G24)*(2*G24+1)/6),), ROUND(Übersicht!$AA24*((G25^2+G25)*(2*G25+1)/6-(H24^2+H24)*(2*H24+1)/6),))) -> 0 | H28: Essenzen | I28: =ROUND(Übersicht!$AA24*G26^2,) -> 0 | K28: Essenzen | L28: =IF(L25=0, 0, IF(M24=0, ROUND(Übersicht!$AA25*((L25^2+L25)*(2*L25+1)/6-(L24^2+L24)*(2*L24+1)/6),), ROUND(Übersicht!$AA25*((L25^2+L25)*(2*L25+1)/6-(M24^2+M24)*(2*M24+1)/6),))) -> 0 | M28: Essenzen | N28: =ROUND(Übersicht!$AA25*L26^2,) -> 0
A29: Kristalle | B29: =IF(B25=0, 0, IF(C24=0, ROUND(Übersicht!$AB23*((B25^2+B25)*(2*B25+1)/6-(B24^2+B24)*(2*B24+1)/6),), ROUND(Übersicht!$AB23*((B25^2+B25)*(2*B25+1)/6-(C24^2+C24)*(2*C24+1)/6),))) -> 0 | C29: Kristalle | D29: =ROUND(Übersicht!$AB23*B26^2,) -> 0 | F29: Kristalle | G29: =IF(G25=0, 0, IF(H24=0, ROUND(Übersicht!$AB24*((G25^2+G25)*(2*G25+1)/6-(G24^2+G24)*(2*G24+1)/6),), ROUND(Übersicht!$AB24*((G25^2+G25)*(2*G25+1)/6-(H24^2+H24)*(2*H24+1)/6),))) -> 0 | H29: Kristalle | I29: =ROUND(Übersicht!$AB24*G26^2,) -> 0 | K29: Kristalle | L29: =IF(L25=0, 0, IF(M24=0, ROUND(Übersicht!$AB25*((L25^2+L25)*(2*L25+1)/6-(L24^2+L24)*(2*L24+1)/6),), ROUND(Übersicht!$AB25*((L25^2+L25)*(2*L25+1)/6-(M24^2+M24)*(2*M24+1)/6),))) -> 0 | M29: Kristalle | N29: =ROUND(Übersicht!$AB25*L26^2,) -> 0
A30: Kraftsteine | B30: =IF(B25=0, 0, IF(C24=0, ROUND(Übersicht!$AC23*((B25^2+B25)*(2*B25+1)/6-(B24^2+B24)*(2*B24+1)/6),), ROUND(Übersicht!$AC23*((B25^2+B25)*(2*B25+1)/6-(C24^2+C24)*(2*C24+1)/6),))) -> 0 | C30: Kraftsteine | D30: =ROUND(Übersicht!$AC23*B26^2,) -> 0 | F30: Kraftsteine | G30: =IF(G25=0, 0, IF(H24=0, ROUND(Übersicht!$AC24*((G25^2+G25)*(2*G25+1)/6-(G24^2+G24)*(2*G24+1)/6),), ROUND(Übersicht!$AC24*((G25^2+G25)*(2*G25+1)/6-(H24^2+H24)*(2*H24+1)/6),))) -> 0 | H30: Kraftsteine | I30: =ROUND(Übersicht!$AC24*G26^2,) -> 0 | K30: Kraftsteine | L30: =IF(L25=0, 0, IF(M24=0, ROUND(Übersicht!$AC25*((L25^2+L25)*(2*L25+1)/6-(L24^2+L24)*(2*L24+1)/6),), ROUND(Übersicht!$AC25*((L25^2+L25)*(2*L25+1)/6-(M24^2+M24)*(2*M24+1)/6),))) -> 0 | M30: Kraftsteine | N30: =ROUND(Übersicht!$AC25*L26^2,) -> 0
A31: Goldharz | B31: =IF(B25=0, 0, IF(C24=0, ROUND(Übersicht!$AD23*((B25^2+B25)*(2*B25+1)/6-(B24^2+B24)*(2*B24+1)/6),), ROUND(Übersicht!$AD23*((B25^2+B25)*(2*B25+1)/6-(C24^2+C24)*(2*C24+1)/6),))) -> 0 | C31: Goldharz | D31: =ROUND(Übersicht!$AD23*B26^2,) -> 0 | F31: Goldharz | G31: =IF(G25=0, 0, IF(H24=0, ROUND(Übersicht!$AD24*((G25^2+G25)*(2*G25+1)/6-(G24^2+G24)*(2*G24+1)/6),), ROUND(Übersicht!$AD24*((G25^2+G25)*(2*G25+1)/6-(H24^2+H24)*(2*H24+1)/6),))) -> 0 | H31: Goldharz | I31: =ROUND(Übersicht!$AD24*G26^2,) -> 0 | K31: Goldharz | L31: =IF(L25=0, 0, IF(M24=0, ROUND(Übersicht!$AD25*((L25^2+L25)*(2*L25+1)/6-(L24^2+L24)*(2*L24+1)/6),), ROUND(Übersicht!$AD25*((L25^2+L25)*(2*L25+1)/6-(M24^2+M24)*(2*M24+1)/6),))) -> 0 | M31: Goldharz | N31: =ROUND(Übersicht!$AD25*L26^2,) -> 0
A32: Mana | B32: =IF(B25=0, 0, IF(C24=0, ROUND(Übersicht!$AE23*(0.5*(B25^2+B25)-0.5*(B24^2+B24)),), ROUND(Übersicht!$AE23*(0.5*(B25^2+B25)-0.5*(C24^2+C24)),))) -> 0 | C32: Mana | D32: =ROUND(Übersicht!$AE23*B26,) -> 0 | F32: Mana | G32: =IF(G25=0, 0, IF(H24=0, ROUND(Übersicht!$AE24*(0.5*(G25^2+G25)-0.5*(G24^2+G24)),), ROUND(Übersicht!$AE24*(0.5*(G25^2+G25)-0.5*(H24^2+H24)),))) -> 0 | H32: Mana | I32: =ROUND(Übersicht!$AE24*G26,) -> 0 | K32: Mana | L32: =IF(L25=0, 0, IF(M24=0, ROUND(Übersicht!$AE25*(0.5*(L25^2+L25)-0.5*(L24^2+L24)),), ROUND(Übersicht!$AE25*(0.5*(L25^2+L25)-0.5*(M24^2+M24)),))) -> 0 | M32: Mana | N32: =ROUND(Übersicht!$AE25*L26,) -> 0

Sheet Itemsets
A1: ="Itemset 1 - "&IF(Übersicht!G20=0,"kein Name eingetragen",INDIRECT("Übersicht!G20")) -> Itemset 1 - kein Name eingetragen | J1: ="Itemset 2 - "&IF(Übersicht!G20=0,"kein Name eingetragen",INDIRECT("Übersicht!G21")) -> Itemset 2 - kein Name eingetragen
A2: Item | B2: Angriff | C2: Verteidigung | D2: Essenzen | E2: Kristall | F2: Stein | G2: Gold | H2: Mana | J2: Item | K2: Angriff | L2: Verteidigung | M2: Essenzen | N2: Kristall | O2: Stein | P2: Gold | Q2: Mana
A3: Helm | J3: Helm | AA3: =ROUNDUP(Übersicht!$J$3*D3/100,) -> 0 | AB3: =ROUNDUP(Übersicht!$J$4*E3/100,) -> 0 | AC3: =ROUNDUP(Übersicht!$J$5*F3/100,) -> 0 | AD3: =ROUNDUP(Übersicht!$J$6*G3/100,) -> 0 | AE3: =ROUNDUP(Übersicht!$J$2*H3/100,) -> 0 | AJ3: =ROUNDUP(Übersicht!$J$3*M3/100,) -> 0 | AK3: =ROUNDUP(Übersicht!$J$4*N3/100,) -> 0 | AL3: =ROUNDUP(Übersicht!$J$5*O3/100,) -> 0 | AM3: =ROUNDUP(Übersicht!$J$6*P3/100,) -> 0 | AN3: =ROUNDUP(Übersicht!$J$2*Q3/100,) -> 0
A4: Waffe | J4: Waffe | AA4: =ROUNDUP(Übersicht!$J$3*D4/100,) -> 0 | AB4: =ROUNDUP(Übersicht!$J$4*E4/100,) -> 0 | AC4: =ROUNDUP(Übersicht!$J$5*F4/100,) -> 0 | AD4: =ROUNDUP(Übersicht!$J$6*G4/100,) -> 0 | AE4: =ROUNDUP(Übersicht!$J$2*H4/100,) -> 0 | AJ4: =ROUNDUP(Übersicht!$J$3*M4/100,) -> 0 | AK4: =ROUNDUP(Übersicht!$J$4*N4/100,) -> 0 | AL4: =ROUNDUP(Übersicht!$J$5*O4/100,) -> 0 | AM4: =ROUNDUP(Übersicht!$J$6*P4/100,) -> 0 | AN4: =ROUNDUP(Übersicht!$J$2*Q4/100,) -> 0
A5: Schuhe | J5: Schuhe | AA5: =ROUNDUP(Übersicht!$J$3*D5/100,) -> 0 | AB5: =ROUNDUP(Übersicht!$J$4*E5/100,) -> 0 | AC5: =ROUNDUP(Übersicht!$J$5*F5/100,) -> 0 | AD5: =ROUNDUP(Übersicht!$J$6*G5/100,) -> 0 | AE5: =ROUNDUP(Übersicht!$J$2*H5/100,) -> 0 | AJ5: =ROUNDUP(Übersicht!$J$3*M5/100,) -> 0 | AK5: =ROUNDUP(Übersicht!$J$4*N5/100,) -> 0 | AL5: =ROUNDUP(Übersicht!$J$5*O5/100,) -> 0 | AM5: =ROUNDUP(Übersicht!$J$6*P5/100,) -> 0 | AN5: =ROUNDUP(Übersicht!$J$2*Q5/100,) -> 0
A6: Schild | J6: Schild | AA6: =ROUNDUP(Übersicht!$J$3*D6/100,) -> 0 | AB6: =ROUNDUP(Übersicht!$J$4*E6/100,) -> 0 | AC6: =ROUNDUP(Übersicht!$J$5*F6/100,) -> 0 | AD6: =ROUNDUP(Übersicht!$J$6*G6/100,) -> 0 | AE6: =ROUNDUP(Übersicht!$J$2*H6/100,) -> 0 | AJ6: =ROUNDUP(Übersicht!$J$3*M6/100,) -> 0 | AK6: =ROUNDUP(Übersicht!$J$4*N6/100,) -> 0 | AL6: =ROUNDUP(Übersicht!$J$5*O6/100,) -> 0 | AM6: =ROUNDUP(Übersicht!$J$6*P6/100,) -> 0 | AN6: =ROUNDUP(Übersicht!$J$2*Q6/100,) -> 0
A7: Rüstung | J7: Rüstung | AA7: =ROUNDUP(Übersicht!$J$3*D7/100,) -> 0 | AB7: =ROUNDUP(Übersicht!$J$4*E7/100,) -> 0 | AC7: =ROUNDUP(Übersicht!$J$5*F7/100,) -> 0 | AD7: =ROUNDUP(Übersicht!$J$6*G7/100,) -> 0 | AE7: =ROUNDUP(Übersicht!$J$2*H7/100,) -> 0 | AJ7: =ROUNDUP(Übersicht!$J$3*M7/100,) -> 0 | AK7: =ROUNDUP(Übersicht!$J$4*N7/100,) -> 0 | AL7: =ROUNDUP(Übersicht!$J$5*O7/100,) -> 0 | AM7: =ROUNDUP(Übersicht!$J$6*P7/100,) -> 0 | AN7: =ROUNDUP(Übersicht!$J$2*Q7/100,) -> 0
A8: Ring | J8: Ring | AA8: =ROUNDUP(Übersicht!$J$3*D8/100,) -> 0 | AB8: =ROUNDUP(Übersicht!$J$4*E8/100,) -> 0 | AC8: =ROUNDUP(Übersicht!$J$5*F8/100,) -> 0 | AD8: =ROUNDUP(Übersicht!$J$6*G8/100,) -> 0 | AE8: =ROUNDUP(Übersicht!$J$2*H8/100,) -> 0 | AJ8: =ROUNDUP(Übersicht!$J$3*M8/100,) -> 0 | AK8: =ROUNDUP(Übersicht!$J$4*N8/100,) -> 0 | AL8: =ROUNDUP(Übersicht!$J$5*O8/100,) -> 0 | AM8: =ROUNDUP(Übersicht!$J$6*P8/100,) -> 0 | AN8: =ROUNDUP(Übersicht!$J$2*Q8/100,) -> 0
A9: Amulett | J9: Amulett | AA9: =ROUNDUP(Übersicht!$J$3*D9/100,) -> 0 | AB9: =ROUNDUP(Übersicht!$J$4*E9/100,) -> 0 | AC9: =ROUNDUP(Übersicht!$J$5*F9/100,) -> 0 | AD9: =ROUNDUP(Übersicht!$J$6*G9/100,) -> 0 | AE9: =ROUNDUP(Übersicht!$J$2*H9/100,) -> 0 | AJ9: =ROUNDUP(Übersicht!$J$3*M9/100,) -> 0 | AK9: =ROUNDUP(Übersicht!$J$4*N9/100,) -> 0 | AL9: =ROUNDUP(Übersicht!$J$5*O9/100,) -> 0 | AM9: =ROUNDUP(Übersicht!$J$6*P9/100,) -> 0 | AN9: =ROUNDUP(Übersicht!$J$2*Q9/100,) -> 0
A10: Gesamt | B10: =SUM(B3:B9) -> 0 | C10: =SUM(C3:C9) -> 0 | D10: =SUM(D3:D9)/100 -> 0 | E10: =SUM(E3:E9)/100 -> 0 | F10: =SUM(F3:F9)/100 -> 0 | G10: =SUM(G3:G9)/100 -> 0 | H10: =SUM(H3:H9)/100 -> 0 | J10: Gesamt | K10: =SUM(K3:K9) -> 0 | L10: =SUM(L3:L9) -> 0 | M10: =SUM(M3:M9)/100 -> 0 | N10: =SUM(N3:N9)/100 -> 0 | O10: =SUM(O3:O9)/100 -> 0 | P10: =SUM(P3:P9)/100 -> 0 | Q10: =SUM(Q3:Q9)/100 -> 0 | AA10: =SUM(AA3:AA9) -> 0 | AB10: =SUM(AB3:AB9) -> 0 | AC10: =SUM(AC3:AC9) -> 0 | AD10: =SUM(AD3:AD9) -> 0 | AE10: =SUM(AE3:AE9) -> 0 | AJ10: =SUM(AJ3:AJ9) -> 0 | AK10: =SUM(AK3:AK9) -> 0 | AL10: =SUM(AL3:AL9) -> 0 | AM10: =SUM(AM3:AM9) -> 0 | AN10: =SUM(AN3:AN9) -> 0
A12: ="Itemset 3 - "&IF(Übersicht!G20=0,"kein Name eingetragen",INDIRECT("Übersicht!G22")) -> Itemset 3 - kein Name eingetragen | J12: ="Itemset 4 - "&IF(Übersicht!G20=0,"kein Name eingetragen",INDIRECT("Übersicht!G23")) -> Itemset 4 - kein Name eingetragen
A13: Item | B13: Angriff | C13: Verteidigung | D13: Essenzen | E13: Kristall | F13: Stein | G13: Gold | H13: Mana | J13: Item | K13: Angriff | L13: Verteidigung | M13: Essenzen | N13: Kristall | O13: Stein | P13: Gold | Q13: Mana
A14: Helm | J14: Helm | AA14: =ROUNDUP(Übersicht!$J$3*D14/100,) -> 0 | AB14: =ROUNDUP(Übersicht!$J$4*E14/100,) -> 0 | AC14: =ROUNDUP(Übersicht!$J$5*F14/100,) -> 0 | AD14: =ROUNDUP(Übersicht!$J$6*G14/100,) -> 0 | AE14: =ROUNDUP(Übersicht!$J$2*H14/100,) -> 0 | AJ14: =ROUNDUP(Übersicht!$J$3*M14/100,) -> 0 | AK14: =ROUNDUP(Übersicht!$J$4*N14/100,) -> 0 | AL14: =ROUNDUP(Übersicht!$J$5*O14/100,) -> 0 | AM14: =ROUNDUP(Übersicht!$J$6*P14/100,) -> 0 | AN14: =ROUNDUP(Übersicht!$J$2*Q14/100,) -> 0
A15: Waffe | J15: Waffe | AA15: =ROUNDUP(Übersicht!$J$3*D15/100,) -> 0 | AB15: =ROUNDUP(Übersicht!$J$4*E15/100,) -> 0 | AC15: =ROUNDUP(Übersicht!$J$5*F15/100,) -> 0 | AD15: =ROUNDUP(Übersicht!$J$6*G15/100,) -> 0 | AE15: =ROUNDUP(Übersicht!$J$2*H15/100,) -> 0 | AJ15: =ROUNDUP(Übersicht!$J$3*M15/100,) -> 0 | AK15: =ROUNDUP(Übersicht!$J$4*N15/100,) -> 0 | AL15: =ROUNDUP(Übersicht!$J$5*O15/100,) -> 0 | AM15: =ROUNDUP(Übersicht!$J$6*P15/100,) -> 0 | AN15: =ROUNDUP(Übersicht!$J$2*Q15/100,) -> 0
A16: Schuhe | J16: Schuhe | AA16: =ROUNDUP(Übersicht!$J$3*D16/100,) -> 0 | AB16: =ROUNDUP(Übersicht!$J$4*E16/100,) -> 0 | AC16: =ROUNDUP(Übersicht!$J$5*F16/100,) -> 0 | AD16: =ROUNDUP(Übersicht!$J$6*G16/100,) -> 0 | AE16: =ROUNDUP(Übersicht!$J$2*H16/100,) -> 0 | AJ16: =ROUNDUP(Übersicht!$J$3*M16/100,) -> 0 | AK16: =ROUNDUP(Übersicht!$J$4*N16/100,) -> 0 | AL16: =ROUNDUP(Übersicht!$J$5*O16/100,) -> 0 | AM16: =ROUNDUP(Übersicht!$J$6*P16/100,) -> 0 | AN16: =ROUNDUP(Übersicht!$J$2*Q16/100,) -> 0
A17: Schild | J17: Schild | AA17: =ROUNDUP(Übersicht!$J$3*D17/100,) -> 0 | AB17: =ROUNDUP(Übersicht!$J$4*E17/100,) -> 0 | AC17: =ROUNDUP(Übersicht!$J$5*F17/100,) -> 0 | AD17: =ROUNDUP(Übersicht!$J$6*G17/100,) -> 0 | AE17: =ROUNDUP(Übersicht!$J$2*H17/100,) -> 0 | AJ17: =ROUNDUP(Übersicht!$J$3*M17/100,) -> 0 | AK17: =ROUNDUP(Übersicht!$J$4*N17/100,) -> 0 | AL17: =ROUNDUP(Übersicht!$J$5*O17/100,) -> 0 | AM17: =ROUNDUP(Übersicht!$J$6*P17/100,) -> 0 | AN17: =ROUNDUP(Übersicht!$J$2*Q17/100,) -> 0
A18: Rüstung | J18: Rüstung | AA18: =ROUNDUP(Übersicht!$J$3*D18/100,) -> 0 | AB18: =ROUNDUP(Übersicht!$J$4*E18/100,) -> 0 | AC18: =ROUNDUP(Übersicht!$J$5*F18/100,) -> 0 | AD18: =ROUNDUP(Übersicht!$J$6*G18/100,) -> 0 | AE18: =ROUNDUP(Übersicht!$J$2*H18/100,) -> 0 | AJ18: =ROUNDUP(Übersicht!$J$3*M18/100,) -> 0 | AK18: =ROUNDUP(Übersicht!$J$4*N18/100,) -> 0 | AL18: =ROUNDUP(Übersicht!$J$5*O18/100,) -> 0 | AM18: =ROUNDUP(Übersicht!$J$6*P18/100,) -> 0 | AN18: =ROUNDUP(Übersicht!$J$2*Q18/100,) -> 0
A19: Ring | J19: Ring | AA19: =ROUNDUP(Übersicht!$J$3*D19/100,) -> 0 | AB19: =ROUNDUP(Übersicht!$J$4*E19/100,) -> 0 | AC19: =ROUNDUP(Übersicht!$J$5*F19/100,) -> 0 | AD19: =ROUNDUP(Übersicht!$J$6*G19/100,) -> 0 | AE19: =ROUNDUP(Übersicht!$J$2*H19/100,) -> 0 | AJ19: =ROUNDUP(Übersicht!$J$3*M19/100,) -> 0 | AK19: =ROUNDUP(Übersicht!$J$4*N19/100,) -> 0 | AL19: =ROUNDUP(Übersicht!$J$5*O19/100,) -> 0 | AM19: =ROUNDUP(Übersicht!$J$6*P19/100,) -> 0 | AN19: =ROUNDUP(Übersicht!$J$2*Q19/100,) -> 0
A20: Amulett | J20: Amulett | AA20: =ROUNDUP(Übersicht!$J$3*D20/100,) -> 0 | AB20: =ROUNDUP(Übersicht!$J$4*E20/100,) -> 0 | AC20: =ROUNDUP(Übersicht!$J$5*F20/100,) -> 0 | AD20: =ROUNDUP(Übersicht!$J$6*G20/100,) -> 0 | AE20: =ROUNDUP(Übersicht!$J$2*H20/100,) -> 0 | AJ20: =ROUNDUP(Übersicht!$J$3*M20/100,) -> 0 | AK20: =ROUNDUP(Übersicht!$J$4*N20/100,) -> 0 | AL20: =ROUNDUP(Übersicht!$J$5*O20/100,) -> 0 | AM20: =ROUNDUP(Übersicht!$J$6*P20/100,) -> 0 | AN20: =ROUNDUP(Übersicht!$J$2*Q20/100,) -> 0
A21: Gesamt | B21: =SUM(B14:B20) -> 0 | C21: =SUM(C14:C20) -> 0 | D21: =SUM(D14:D20)/100 -> 0 | E21: =SUM(E14:E20)/100 -> 0 | F21: =SUM(F14:F20)/100 -> 0 | G21: =SUM(G14:G20)/100 -> 0 | H21: =SUM(H14:H20)/100 -> 0 | J21: Gesamt | K21: =SUM(K14:K20) -> 0 | L21: =SUM(L14:L20) -> 0 | M21: =SUM(M14:M20)/100 -> 0 | N21: =SUM(N14:N20)/100 -> 0 | O21: =SUM(O14:O20)/100 -> 0 | P21: =SUM(P14:P20)/100 -> 0 | Q21: =SUM(Q14:Q20)/100 -> 0 | AA21: =SUM(AA14:AA20) -> 0 | AB21: =SUM(AB14:AB20) -> 0 | AC21: =SUM(AC14:AC20) -> 0 | AD21: =SUM(AD14:AD20) -> 0 | AE21: =SUM(AE14:AE20) -> 0 | AJ21: =SUM(AJ14:AJ20) -> 0 | AK21: =SUM(AK14:AK20) -> 0 | AL21: =SUM(AL14:AL20) -> 0 | AM21: =SUM(AM14:AM20) -> 0 | AN21: =SUM(AN14:AN20) -> 0
A23: ="Itemset 5 - "&IF(Übersicht!G20=0,"kein Name eingetragen",INDIRECT("Übersicht!G24")) -> Itemset 5 - kein Name eingetragen | J23: ="Itemset 6 - "&IF(Übersicht!G20=0,"kein Name eingetragen",INDIRECT("Übersicht!G25")) -> Itemset 6 - kein Name eingetragen
A24: Item | B24: Angriff | C24: Verteidigung | D24: Essenzen | E24: Kristall | F24: Stein | G24: Gold | H24: Mana | J24: Item | K24: Angriff | L24: Verteidigung | M24: Essenzen | N24: Kristall | O24: Stein | P24: Gold | Q24: Mana
A25: Helm | J25: Helm | AA25: =ROUNDUP(Übersicht!$J$3*D25/100,) -> 0 | AB25: =ROUNDUP(Übersicht!$J$4*E25/100,) -> 0 | AC25: =ROUNDUP(Übersicht!$J$5*F25/100,) -> 0 | AD25: =ROUNDUP(Übersicht!$J$6*G25/100,) -> 0 | AE25: =ROUNDUP(Übersicht!$J$2*H25/100,) -> 0 | AJ25: =ROUNDUP(Übersicht!$J$3*M25/100,) -> 0 | AK25: =ROUNDUP(Übersicht!$J$4*N25/100,) -> 0 | AL25: =ROUNDUP(Übersicht!$J$5*O25/100,) -> 0 | AM25: =ROUNDUP(Übersicht!$J$6*P25/100,) -> 0 | AN25: =ROUNDUP(Übersicht!$J$2*Q25/100,) -> 0
A26: Waffe | J26: Waffe | AA26: =ROUNDUP(Übersicht!$J$3*D26/100,) -> 0 | AB26: =ROUNDUP(Übersicht!$J$4*E26/100,) -> 0 | AC26: =ROUNDUP(Übersicht!$J$5*F26/100,) -> 0 | AD26: =ROUNDUP(Übersicht!$J$6*G26/100,) -> 0 | AE26: =ROUNDUP(Übersicht!$J$2*H26/100,) -> 0 | AJ26: =ROUNDUP(Übersicht!$J$3*M26/100,) -> 0 | AK26: =ROUNDUP(Übersicht!$J$4*N26/100,) -> 0 | AL26: =ROUNDUP(Übersicht!$J$5*O26/100,) -> 0 | AM26: =ROUNDUP(Übersicht!$J$6*P26/100,) -> 0 | AN26: =ROUNDUP(Übersicht!$J$2*Q26/100,) -> 0
A27: Schuhe | J27: Schuhe | AA27: =ROUNDUP(Übersicht!$J$3*D27/100,) -> 0 | AB27: =ROUNDUP(Übersicht!$J$4*E27/100,) -> 0 | AC27: =ROUNDUP(Übersicht!$J$5*F27/100,) -> 0 | AD27: =ROUNDUP(Übersicht!$J$6*G27/100,) -> 0 | AE27: =ROUNDUP(Übersicht!$J$2*H27/100,) -> 0 | AJ27: =ROUNDUP(Übersicht!$J$3*M27/100,) -> 0 | AK27: =ROUNDUP(Übersicht!$J$4*N27/100,) -> 0 | AL27: =ROUNDUP(Übersicht!$J$5*O27/100,) -> 0 | AM27: =ROUNDUP(Übersicht!$J$6*P27/100,) -> 0 | AN27: =ROUNDUP(Übersicht!$J$2*Q27/100,) -> 0
A28: Schild | J28: Schild | AA28: =ROUNDUP(Übersicht!$J$3*D28/100,) -> 0 | AB28: =ROUNDUP(Übersicht!$J$4*E28/100,) -> 0 | AC28: =ROUNDUP(Übersicht!$J$5*F28/100,) -> 0 | AD28: =ROUNDUP(Übersicht!$J$6*G28/100,) -> 0 | AE28: =ROUNDUP(Übersicht!$J$2*H28/100,) -> 0 | AJ28: =ROUNDUP(Übersicht!$J$3*M28/100,) -> 0 | AK28: =ROUNDUP(Übersicht!$J$4*N28/100,) -> 0 | AL28: =ROUNDUP(Übersicht!$J$5*O28/100,) -> 0 | AM28: =ROUNDUP(Übersicht!$J$6*P28/100,) -> 0 | AN28: =ROUNDUP(Übersicht!$J$2*Q28/100,) -> 0
A29: Rüstung | J29: Rüstung | AA29: =ROUNDUP(Übersicht!$J$3*D29/100,) -> 0 | AB29: =ROUNDUP(Übersicht!$J$4*E29/100,) -> 0 | AC29: =ROUNDUP(Übersicht!$J$5*F29/100,) -> 0 | AD29: =ROUNDUP(Übersicht!$J$6*G29/100,) -> 0 | AE29: =ROUNDUP(Übersicht!$J$2*H29/100,) -> 0 | AJ29: =ROUNDUP(Übersicht!$J$3*M29/100,) -> 0 | AK29: =ROUNDUP(Übersicht!$J$4*N29/100,) -> 0 | AL29: =ROUNDUP(Übersicht!$J$5*O29/100,) -> 0 | AM29: =ROUNDUP(Übersicht!$J$6*P29/100,) -> 0 | AN29: =ROUNDUP(Übersicht!$J$2*Q29/100,) -> 0
A30: Ring | J30: Ring | AA30: =ROUNDUP(Übersicht!$J$3*D30/100,) -> 0 | AB30: =ROUNDUP(Übersicht!$J$4*E30/100,) -> 0 | AC30: =ROUNDUP(Übersicht!$J$5*F30/100,) -> 0 | AD30: =ROUNDUP(Übersicht!$J$6*G30/100,) -> 0 | AE30: =ROUNDUP(Übersicht!$J$2*H30/100,) -> 0 | AJ30: =ROUNDUP(Übersicht!$J$3*M30/100,) -> 0 | AK30: =ROUNDUP(Übersicht!$J$4*N30/100,) -> 0 | AL30: =ROUNDUP(Übersicht!$J$5*O30/100,) -> 0 | AM30: =ROUNDUP(Übersicht!$J$6*P30/100,) -> 0 | AN30: =ROUNDUP(Übersicht!$J$2*Q30/100,) -> 0
A31: Amulett | J31: Amulett | AA31: =ROUNDUP(Übersicht!$J$3*D31/100,) -> 0 | AB31: =ROUNDUP(Übersicht!$J$4*E31/100,) -> 0 | AC31: =ROUNDUP(Übersicht!$J$5*F31/100,) -> 0 | AD31: =ROUNDUP(Übersicht!$J$6*G31/100,) -> 0 | AE31: =ROUNDUP(Übersicht!$J$2*H31/100,) -> 0 | AJ31: =ROUNDUP(Übersicht!$J$3*M31/100,) -> 0 | AK31: =ROUNDUP(Übersicht!$J$4*N31/100,) -> 0 | AL31: =ROUNDUP(Übersicht!$J$5*O31/100,) -> 0 | AM31: =ROUNDUP(Übersicht!$J$6*P31/100,) -> 0 | AN31: =ROUNDUP(Übersicht!$J$2*Q31/100,) -> 0
A32: Gesamt | B32: =SUM(B25:B31) -> 0 | C32: =SUM(C25:C31) -> 0 | D32: =SUM(D25:D31)/100 -> 0 | E32: =SUM(E25:E31)/100 -> 0 | F32: =SUM(F25:F31)/100 -> 0 | G32: =SUM(G25:G31)/100 -> 0 | H32: =SUM(H25:H31)/100 -> 0 | J32: Gesamt | K32: =SUM(K25:K31) -> 0 | L32: =SUM(L25:L31) -> 0 | M32: =SUM(M25:M31)/100 -> 0 | N32: =SUM(N25:N31)/100 -> 0 | O32: =SUM(O25:O31)/100 -> 0 | P32: =SUM(P25:P31)/100 -> 0 | Q32: =SUM(Q25:Q31)/100 -> 0 | AA32: =SUM(AA25:AA31) -> 0 | AB32: =SUM(AB25:AB31) -> 0 | AC32: =SUM(AC25:AC31) -> 0 | AD32: =SUM(AD25:AD31) -> 0 | AE32: =SUM(AE25:AE31) -> 0 | AJ32: =SUM(AJ25:AJ31) -> 0 | AK32: =SUM(AK25:AK31) -> 0 | AL32: =SUM(AL25:AL31) -> 0 | AM32: =SUM(AM25:AM31) -> 0 | AN32: =SUM(AN25:AN31) -> 0
A34: ="Itemset 7 - "&IF(Übersicht!G20=0,"kein Name eingetragen",INDIRECT("Übersicht!G26")) -> Itemset 7 - kein Name eingetragen
A35: Item | B35: Angriff | C35: Verteidigung | D35: Essenzen | E35: Kristall | F35: Stein | G35: Gold | H35: Mana
A36: Helm | AA36: =ROUNDUP(Übersicht!$J$3*D36/100,) -> 0 | AB36: =ROUNDUP(Übersicht!$J$4*E36/100,) -> 0 | AC36: =ROUNDUP(Übersicht!$J$5*F36/100,) -> 0 | AD36: =ROUNDUP(Übersicht!$J$6*G36/100,) -> 0 | AE36: =ROUNDUP(Übersicht!$J$2*H36/100,) -> 0
A37: Waffe | AA37: =ROUNDUP(Übersicht!$J$3*D37/100,) -> 0 | AB37: =ROUNDUP(Übersicht!$J$4*E37/100,) -> 0 | AC37: =ROUNDUP(Übersicht!$J$5*F37/100,) -> 0 | AD37: =ROUNDUP(Übersicht!$J$6*G37/100,) -> 0 | AE37: =ROUNDUP(Übersicht!$J$2*H37/100,) -> 0
A38: Schuhe | AA38: =ROUNDUP(Übersicht!$J$3*D38/100,) -> 0 | AB38: =ROUNDUP(Übersicht!$J$4*E38/100,) -> 0 | AC38: =ROUNDUP(Übersicht!$J$5*F38/100,) -> 0 | AD38: =ROUNDUP(Übersicht!$J$6*G38/100,) -> 0 | AE38: =ROUNDUP(Übersicht!$J$2*H38/100,) -> 0
A39: Schild | AA39: =ROUNDUP(Übersicht!$J$3*D39/100,) -> 0 | AB39: =ROUNDUP(Übersicht!$J$4*E39/100,) -> 0 | AC39: =ROUNDUP(Übersicht!$J$5*F39/100,) -> 0 | AD39: =ROUNDUP(Übersicht!$J$6*G39/100,) -> 0 | AE39: =ROUNDUP(Übersicht!$J$2*H39/100,) -> 0
A40: Rüstung | AA40: =ROUNDUP(Übersicht!$J$3*D40/100,) -> 0 | AB40: =ROUNDUP(Übersicht!$J$4*E40/100,) -> 0 | AC40: =ROUNDUP(Übersicht!$J$5*F40/100,) -> 0 | AD40: =ROUNDUP(Übersicht!$J$6*G40/100,) -> 0 | AE40: =ROUNDUP(Übersicht!$J$2*H40/100,) -> 0
A41: Ring | AA41: =ROUNDUP(Übersicht!$J$3*D41/100,) -> 0 | AB41: =ROUNDUP(Übersicht!$J$4*E41/100,) -> 0 | AC41: =ROUNDUP(Übersicht!$J$5*F41/100,) -> 0 | AD41: =ROUNDUP(Übersicht!$J$6*G41/100,) -> 0 | AE41: =ROUNDUP(Übersicht!$J$2*H41/100,) -> 0
A42: Amulett | AA42: =ROUNDUP(Übersicht!$J$3*D42/100,) -> 0 | AB42: =ROUNDUP(Übersicht!$J$4*E42/100,) -> 0 | AC42: =ROUNDUP(Übersicht!$J$5*F42/100,) -> 0 | AD42: =ROUNDUP(Übersicht!$J$6*G42/100,) -> 0 | AE42: =ROUNDUP(Übersicht!$J$2*H42/100,) -> 0
A43: Gesamt | B43: =SUM(B36:B42) -> 0 | C43: =SUM(C36:C42) -> 0 | D43: =SUM(D36:D42)/100 -> 0 | E43: =SUM(E36:E42)/100 -> 0 | F43: =SUM(F36:F42)/100 -> 0 | G43: =SUM(G36:G42)/100 -> 0 | H43: =SUM(H36:H42)/100 -> 0 | AA43: =SUM(AA36:AA42) -> 0 | AB43: =SUM(AB36:AB42) -> 0 | AC43: =SUM(AC36:AC42) -> 0 | AD43: =SUM(AD36:AD42) -> 0 | AE43: =SUM(AE36:AE42) -> 0

Sheet Tabelle2
A1: Einheit | B1: Angriff | C1: Def | D1: Leben | F1: Angreifer | I1: Vor-Nachteile der Lebenseinheiten | M1: Vor-Nachteile der Schadenseinheiten
A2: Kobold | B2: 1 | C2: 1 | D2: 100 | F2: Angriff | G2: =IF(KamfSimulator!H14=1, Übersicht!M12, KamfSimulator!G2) -> 0 | I2: Einheit erhält: | J2: halben Schaden | K2: doppelten Schaden | M2: Einheit macht: | N2: doppelten Schaden | O2: halben Schaden | R2: 1.05
A3: Kinder d. Macht | B3: 2 | C3: 2 | D3: 50 | F3: Att Itempunkte | G3: =IF(KamfSimulator!H14=1, Übersicht!G27, KamfSimulator!G3) -> 0 | I3: Kobold | J3: Elfenmagier | K3: Hyst. Zentaurin | M3: Kinder d. Macht | N3: Bergtrolle | O3: Eiskrieger | R3: 1
A4: Eiskrieger | B4: 4 | C4: 4 | D4: 150 | F4: Verstärkung pro Angriffspunkt | G4: =0.0015 -> 0.0015 | I4: Eiskrieger | J4: Kinder der Macht | K4: Wide Zentauren | M4: Hyst. Zentaurin | N4: Kobolde | O4: Kriegerpriester | R4: 1.1
A5: H. Zentaurin | B5: 8 | C5: 8 | D5: 75 | F5: Verstärkung pro Itempunkt | G5: =0.0015 -> 0.0015 | I5: Kriegspriester | J5: Hyst. Zentaurin | K5: Elfenbogenschütze | M5: W. Zentauren | N5: Eiskrieger | O5: Axtschw. Zwerge | R5: 0.95
A6: Kriegspriester | B6: 7 | C6: 7 | D6: 250 | I6: A. Zwerg | J6: Wilde Zentauren | K6: Feuerfee | M6: Elfbogenschütze | N6: Kriegerpriester | O6: Doppelaxtzwerge | R6: 1.15
A7: W. Zentaurus | B7: 17 | C7: 17 | D7: 100 | F7: Verteidiger | I7: Doppelaxtzwerg | J7: Elfenbogenschütze | K7: Baumriese | M7: Feuerfee | N7: Axtschw. Zwerge | O7: Halbriesen | R7: 0.9
A8: A. Zwerg | B8: 8 | C8: 8 | D8: 450 | F8: Def | G8: =IF(KamfSimulator!H14=2, Übersicht!M13,KamfSimulator!G7) -> 0 | I8: Halbriese | J8: Feuerfee | K8: Elfenmagier | M8: Baumriese | N8: Doppelaxtzwerge | O8: Bergtrolle | R8: 1.2
A9: Elfbogenschütze | B9: 24 | C9: 24 | D9: 150 | F9: Steinmantel | I9: Bergtroll | J9: Baumriese | K9: Kinder der Macht | M9: Elfenmagier | N9: Halbriesen | O9: Kobolde | R9: 0.85
A10: Doppelaxtzwerg | B10: 11 | C10: 11 | D10: 650 | F10: Stufe | G10: =IF(KamfSimulator!H14=2, Übersicht!G8, KamfSimulator!G10) -> 0 | R10: 1.25
A11: Feuerfee | B11: 40 | C11: 40 | D11: 180 | F11: Def Itempunkte | G11: =IF(KamfSimulator!H14, Übersicht!I27, KamfSimulator!G8) -> 0 | R11: 0.8
A12: Halbriese | B12: 15 | C12: 15 | D12: 750 | F12: Verstärkung pro Defpunkt | G12: =0.0025 -> 0.0025 | R12: 1.3
A13: Baumriese | B13: 56 | C13: 56 | D13: 200 | F13: Verstärkung pro Stufe Steinmantel | G13: =0.0025 -> 0.0025 | J13: Pilze | R13: 0.75
A14: Bergtroll | B14: 24 | C14: 24 | D14: 950 | F14: Verstärkung pro Itempunkt | G14: =0.0025 -> 0.0025 | J14: Angreifer | K14: Verteidiger | R14: 1.4
A15: Elfenmagier | B15: 100 | C15: 100 | D15: 225 | J15: =IF(SUM(B19:B32)*SUM(F19:F33)=0,0, ROUND(0.3*SUMPRODUCT(Tabelle2!B19:B32-Tabelle2!J19:J32,Übersicht!X2:X15),)) -> 0 | K15: =IF(SUM(F19:F32)*SUM(B19:B33)=0,0, ROUND(0.3*SUMPRODUCT(F19:F32-K19:K32,Übersicht!X2:X15),)) -> 0 | R15: 0.65
A16: Abenteuerwesen | B16: 1 | C16: 1 | D16: 100 | R16: 1
B17: Angreifer | F17: Verteidiger | J17: Angreifer | K17: Verteidiger | L17: Ungerundete Einheitenzahl | P17: mit vor-nachteilen | T17: ohne Vor-Nachteile | V17: Summe Verluste (Gewinner) | X17: wie pilze | Y17: Truppenstärke
A18: Kampfrunde 1 | B18: Anzahl | C18: Angriff | D18: Leben | E18: Nachher | F18: Anzahl | G18: Def | H18: Leben | I18: Nacher | J18: Nachher | K18: Nachher | L18: Angreifer | M18: verluste | N18: Verteidiger | O18: Verluste | P18: % Verluste A | Q18: % Verluste V | R18: korrigiert A | S18: Korrigiert V | T18: % Verluste A | U18: % Verluste V | V18: Angreifer | W18: Verteidiger | X18: faktor einheitenwertigkeit | Y18: Angreifer | Z18: verteidiger
A19: Kobold | B19: =IF(KamfSimulator!H$14=1,KamfSimulator!B20,KamfSimulator!C20) -> 0 | C19: =(B19*B2*(1+G4*G2+G3*G5)) -> 0 | D19: =SUM(B19*D2*R2) -> 0 | E19: =B19-(D19/D$34*G$34/D2) -> #DIV/0! | F19: =IF(KamfSimulator!H$14=2,KamfSimulator!E20,KamfSimulator!F20) -> 0 | G19: =(C2*F19*(1+G12*G8+G13*G10+G11*G14)) -> 0 | H19: =(D2*F19*R2) -> 0 | I19: =F19-(H19/H$34*C$34/D2) -> #DIV/0! | J19: =IF($D$37=1, IF($F$41>$G$41, ROUNDUP(L19,), ROUNDDOWN(L19,)), IF($G$37=1, IF($F$41>$G$41, ROUNDUP(R19,), ROUNDDOWN(R19,)), ROUNDUP(B19-M19*$J$37,))) -> #DIV/0! | K19: =IF($D$37=1, IF($F$41>$G$41, ROUNDDOWN(N19,), ROUNDUP(N19,)), IF($G$37=1, IF($F$41>$G$41, ROUNDDOWN(S19,), ROUNDUP(S19,)),ROUNDUP(F19-O19*$J$37,))) -> #DIV/0! | L19: =B19-(D19/D34*(G34+G22-0.5*G32)/D2) -> #DIV/0! | M19: =B19-L19 -> #DIV/0! | N19: =F19-(H19/H34*(C34+C22-0.5*C32)/D2) -> #DIV/0! | O19: =F19-N19 -> #DIV/0! | P19: =IF(B19>0, 100*M19/B19, 0) -> 0 | Q19: =IF(F19>0, 100*O19/F19, 0) -> 0 | R19: =B19-$J$37*(D19/D$34*(G$34)/D2) -> #DIV/0! | S19: =F19-$J$37*(H19/H$34*(C$34)/D2) -> #DIV/0! | T19: =IF(B19>0,100*(B19-E19)/B19,0) -> 0 | U19: =IF(F19>0,100*(F19-I19)/F19,0) -> 0 | V19: =X19*(B19-J19) -> #DIV/0! | W19: =X19*(F19-K19) -> #DIV/0! | X19: 3 | Y19: =B19*X19 -> 0 | Z19: =F19*X19 -> 0
A20: Kinder d. Macht | B20: =IF(KamfSimulator!H$14=1,KamfSimulator!B21,KamfSimulator!C21) -> 0 | C20: =(B20*B3*(1+G4*G2+G3*G5)) -> 0 | D20: =SUM(B20*D3*R3) -> 0 | E20: =B20-(D20/D$34*G$34/D3) -> #DIV/0! | F20: =IF(KamfSimulator!H$14=2,KamfSimulator!E21,KamfSimulator!F21) -> 0 | G20: =(C3*F20*(1+G12*G8+G13*G10+G11*G14)) -> 0 | H20: =(D3*F20*R3) -> 0 | I20: =F20-(H20/H$34*C$34/D3) -> #DIV/0! | J20: =IF($D$37=1, IF($F$41>$G$41, ROUNDUP(L20,), ROUNDDOWN(L20,)), IF($G$37=1, IF($F$41>$G$41, ROUNDUP(R20,), ROUNDDOWN(R20,)), ROUNDUP(R20,))) -> #DIV/0! | K20: =IF($D$37=1, IF($F$41>$G$41, ROUNDDOWN(N20,), ROUNDUP(N20,)), IF($G$37=1, IF($F$41>$G$41, ROUNDDOWN(S20,), ROUNDUP(S20,)),ROUNDUP(S20,))) -> #DIV/0! | L20: =B20-(D20/D34*G34/D3) -> #DIV/0! | M20: =B20-L20 -> #DIV/0! | N20: =F20-(H20/H34*C34/D3) -> #DIV/0! | O20: =F20-N20 -> #DIV/0! | P20: =IF(B20>0, 100*M20/B20, 0) -> 0 | Q20: =IF(F20>0, 100*O20/F20, 0) -> 0 | R20: =B20-$J$37*(D20/D$34*(G$34)/D3) -> #DIV/0! | S20: =F20-$J$37*(H20/H$34*(C$34)/D3) -> #DIV/0! | T20: =IF(B20>0,100*(B20-E20)/B20,0) -> 0 | U20: =IF(F20>0,100*(F20-I20)/F20,0) -> 0 | V20: =X20*(B20-J20) -> #DIV/0! | W20: =X20*(F20-K20) -> #DIV/0! | X20: 3 | Y20: =B20*X20 -> 0 | Z20: =F20*X20 -> 0
A21: Eiskrieger | B21: =IF(KamfSimulator!H$14=1,KamfSimulator!B22,KamfSimulator!C22) -> 0 | C21: =(B21*B4*(1+G4*G2+G3*G5)) -> 0 | D21: =SUM(B21*D4*R4) -> 0 | E21: =B21-(D21/D$34*G$34/D4) -> #DIV/0! | F21: =IF(KamfSimulator!H$14=2,KamfSimulator!E22,KamfSimulator!F22) -> 0 | G21: =(C4*F21*(1+G12*G8+G13*G10+G11*G14)) -> 0 | H21: =(D4*F21*R4) -> 0 | I21: =F21-(H21/H$34*C$34/D4) -> #DIV/0! | J21: =IF($D$37=1, IF($F$41>$G$41, ROUNDUP(L21,), ROUNDDOWN(L21,)), IF($G$37=1, IF($F$41>$G$41, ROUNDUP(R21,), ROUNDDOWN(R21,)),ROUNDUP(B21-M21*$J$37,))) -> #DIV/0! | K21: =IF($D$37=1, IF($F$41>$G$41, ROUNDDOWN(N21,), ROUNDUP(N21,)), IF($G$37=1, IF($F$41>$G$41, ROUNDDOWN(S21,), ROUNDUP(S21,)),ROUNDUP(F21-O21*$J$37,))) -> #DIV/0! | L21: =B21-(D21/D34*(G34+G24-0.5*G20)/D4) -> #DIV/0! | M21: =B21-L21 -> #DIV/0! | N21: =F21-(H21/H34*(C34+C24-0.5*C20)/D4) -> #DIV/0! | O21: =F21-N21 -> #DIV/0! | P21: =IF(B21>0, 100*M21/B21, 0) -> 0 | Q21: =IF(F21>0, 100*O21/F21, 0) -> 0 | R21: =B21-$J$37*(D21/D$34*(G$34)/D4) -> #DIV/0! | S21: =F21-$J$37*(H21/H$34*(C$34)/D4) -> #DIV/0! | T21: =IF(B21>0,100*(B21-E21)/B21,0) -> 0 | U21: =IF(F21>0,100*(F21-I21)/F21,0) -> 0 | V21: =X21*(B21-J21) -> #DIV/0! | W21: =X21*(F21-K21) -> #DIV/0! | X21: 5 | Y21: =B21*X21 -> 0 | Z21: =F21*X21 -> 0
A22: H. Zentaurin | B22: =IF(KamfSimulator!H$14=1,KamfSimulator!B23,KamfSimulator!C23) -> 0 | C22: =(B22*B5*(1+G4*G2+G3*G5)) -> 0 | D22: =SUM(B22*D5*R5) -> 0 | E22: =B22-(D22/D$34*G$34/D5) -> #DIV/0! | F22: =IF(KamfSimulator!H$14=2,KamfSimulator!E23,KamfSimulator!F23) -> 0 | G22: =(C5*F22*(1+G12*G8+G13*G10+G11*G14)) -> 0 | H22: =(D5*F22*R5) -> 0 | I22: =F22-(H22/H$34*C$34/D5) -> #DIV/0! | J22: =IF($D$37=1, IF($F$41>$G$41, ROUNDUP(L22,), ROUNDDOWN(L22,)), IF($G$37=1, IF($F$41>$G$41, ROUNDUP(R22,), ROUNDDOWN(R22,)),ROUNDUP(R22,))) -> #DIV/0! | K22: =IF($D$37=1, IF($F$41>$G$41, ROUNDDOWN(N22,), ROUNDUP(N22,)), IF($G$37=1, IF($F$41>$G$41, ROUNDDOWN(S22,), ROUNDUP(S22,)),ROUNDUP(S22,))) -> #DIV/0! | L22: =B22-(D22/D34*G34/D5) -> #DIV/0! | M22: =B22-L22 -> #DIV/0! | N22: =F22-(H22/H34*C34/D5) -> #DIV/0! | O22: =F22-N22 -> #DIV/0! | P22: =IF(B22>0, 100*M22/B22, 0) -> 0 | Q22: =IF(F22>0, 100*O22/F22, 0) -> 0 | R22: =B22-$J$37*(D22/D$34*(G$34)/D5) -> #DIV/0! | S22: =F22-$J$37*(H22/H$34*(C$34)/D5) -> #DIV/0! | T22: =IF(B22>0,100*(B22-E22)/B22,0) -> 0 | U22: =IF(F22>0,100*(F22-I22)/F22,0) -> 0 | V22: =X22*(B22-J22) -> #DIV/0! | W22: =X22*(F22-K22) -> #DIV/0! | X22: 5 | Y22: =B22*X22 -> 0 | Z22: =F22*X22 -> 0
A23: Kriegspriester | B23: =IF(KamfSimulator!H$14=1,KamfSimulator!B24,KamfSimulator!C24) -> 0 | C23: =(B23*B6*(1+G4*G2+G3*G5)) -> 0 | D23: =SUM(B23*D6*R6) -> 0 | E23: =B23-(D23/D$34*G$34/D6) -> #DIV/0! | F23: =IF(KamfSimulator!H$14=2,KamfSimulator!E24,KamfSimulator!F24) -> 0 | G23: =(C6*F23*(1+G12*G8+G13*G10+G11*G14)) -> 0 | H23: =(D6*F23*R6) -> 0 | I23: =F23-(H23/H$34*C$34/D6) -> #DIV/0! | J23: =IF($D$37=1, IF($F$41>$G$41, ROUNDUP(L23,), ROUNDDOWN(L23,)), IF($G$37=1, IF($F$41>$G$41, ROUNDUP(R23,), ROUNDDOWN(R23,)),ROUNDUP(B23-M23*$J$37,))) -> #DIV/0! | K23: =IF($D$37=1, IF($F$41>$G$41, ROUNDDOWN(N23,), ROUNDUP(N23,)), IF($G$37=1, IF($F$41>$G$41, ROUNDDOWN(S23,), ROUNDUP(S23,)),ROUNDUP(F23-O23*$J$37,))) -> #DIV/0! | L23: =B23-(D23/D34*(G34+G26-0.5*G22)/D6) -> #DIV/0! | M23: =B23-L23 -> #DIV/0! | N23: =F23-(H23/H34*(C34+C26-0.5*C22)/D6) -> #DIV/0! | O23: =F23-N23 -> #DIV/0! | P23: =IF(B23>0, 100*M23/B23, 0) -> 0 | Q23: =IF(F23>0, 100*O23/F23, 0) -> 0 | R23: =B23-$J$37*(D23/D$34*(G$34)/D6) -> #DIV/0! | S23: =F23-$J$37*(H23/H$34*(C$34)/D6) -> #DIV/0! | T23: =IF(B23>0,100*(B23-E23)/B23,0) -> 0 | U23: =IF(F23>0,100*(F23-I23)/F23,0) -> 0 | V23: =X23*(B23-J23) -> #DIV/0! | W23: =X23*(F23-K23) -> #DIV/0! | X23: 7 | Y23: =B23*X23 -> 0 | Z23: =F23*X23 -> 0
A24: W. Zentaurus | B24: =IF(KamfSimulator!H$14=1,KamfSimulator!B25,KamfSimulator!C25) -> 0 | C24: =(B24*B7*(1+G4*G2+G3*G5)) -> 0 | D24: =SUM(B24*D7*R7) -> 0 | E24: =B24-(D24/D$34*G$34/D7) -> #DIV/0! | F24: =IF(KamfSimulator!H$14=2,KamfSimulator!E25,KamfSimulator!F25) -> 0 | G24: =(C7*F24*(1+G12*G8+G13*G10+G11*G14)) -> 0 | H24: =(D7*F24*R7) -> 0 | I24: =F24-(H24/H$34*C$34/D7) -> #DIV/0! | J24: =IF($D$37=1, IF($F$41>$G$41, ROUNDUP(L24,), ROUNDDOWN(L24,)), IF($G$37=1, IF($F$41>$G$41, ROUNDUP(R24,), ROUNDDOWN(R24,)),ROUNDUP(R24,))) -> #DIV/0! | K24: =IF($D$37=1, IF($F$41>$G$41, ROUNDDOWN(N24,), ROUNDUP(N24,)), IF($G$37=1, IF($F$41>$G$41, ROUNDDOWN(S24,), ROUNDUP(S24,)),ROUNDUP(S24,))) -> #DIV/0! | L24: =B24-(D24/D34*G34/D7) -> #DIV/0! | M24: =B24-L24 -> #DIV/0! | N24: =F24-(H24/H34*C34/D7) -> #DIV/0! | O24: =F24-N24 -> #DIV/0! | P24: =IF(B24>0, 100*M24/B24, 0) -> 0 | Q24: =IF(F24>0, 100*O24/F24, 0) -> 0 | R24: =B24-$J$37*(D24/D$34*(G$34)/D7) -> #DIV/0! | S24: =F24-$J$37*(H24/H$34*(C$34)/D7) -> #DIV/0! | T24: =IF(B24>0,100*(B24-E24)/B24,0) -> 0 | U24: =IF(F24>0,100*(F24-I24)/F24,0) -> 0 | V24: =X24*(B24-J24) -> #DIV/0! | W24: =X24*(F24-K24) -> #DIV/0! | X24: 7 | Y24: =B24*X24 -> 0 | Z24: =F24*X24 -> 0
A25: A. Zwerg | B25: =IF(KamfSimulator!H$14=1,KamfSimulator!B26,KamfSimulator!C26) -> 0 | C25: =(B25*B8*(1+G4*G2+G3*G5)) -> 0 | D25: =SUM(B25*D8*R8) -> 0 | E25: =B25-(D25/D$34*G$34/D8) -> #DIV/0! | F25: =IF(KamfSimulator!H$14=2,KamfSimulator!E26,KamfSimulator!F26) -> 0 | G25: =(C8*F25*(1+G12*G8+G13*G10+G11*G14)) -> 0 | H25: =(D8*F25*R8) -> 0 | I25: =F25-(H25/H$34*C$34/D8) -> #DIV/0! | J25: =IF($D$37=1, IF($F$41>$G$41, ROUNDUP(L25,), ROUNDDOWN(L25,)), IF($G$37=1, IF($F$41>$G$41, ROUNDUP(R25,), ROUNDDOWN(R25,)),ROUNDUP(B25-M25*$J$37,))) -> #DIV/0! | K25: =IF($D$37=1, IF($F$41>$G$41, ROUNDDOWN(N25,), ROUNDUP(N25,)), IF($G$37=1, IF($F$41>$G$41, ROUNDDOWN(S25,), ROUNDUP(S25,)),ROUNDUP(F25-O25*$J$37,))) -> #DIV/0! | L25: =B25-(D25/D34*(G34+G28-0.5*G24)/D8) -> #DIV/0! | M25: =B25-L25 -> #DIV/0! | N25: =F25-(H25/H34*(C34+C28-0.5*C24)/D8) -> #DIV/0! | O25: =F25-N25 -> #DIV/0! | P25: =IF(B25>0, 100*M25/B25, 0) -> 0 | Q25: =IF(F25>0, 100*O25/F25, 0) -> 0 | R25: =B25-$J$37*(D25/D$34*(G$34)/D8) -> #DIV/0! | S25: =F25-$J$37*(H25/H$34*(C$34)/D8) -> #DIV/0! | T25: =IF(B25>0,100*(B25-E25)/B25,0) -> 0 | U25: =IF(F25>0,100*(F25-I25)/F25,0) -> 0 | V25: =X25*(B25-J25) -> #DIV/0! | W25: =X25*(F25-K25) -> #DIV/0! | X25: 10 | Y25: =B25*X25 -> 0 | Z25: =F25*X25 -> 0
A26: Elfbogenschütze | B26: =IF(KamfSimulator!H$14=1,KamfSimulator!B27,KamfSimulator!C27) -> 0 | C26: =(B26*B9*(1+G4*G2+G3*G5)) -> 0 | D26: =SUM(B26*D9*R9) -> 0 | E26: =B26-(D26/D$34*G$34/D9) -> #DIV/0! | F26: =IF(KamfSimulator!H$14=2,KamfSimulator!E27,KamfSimulator!F27) -> 0 | G26: =(C9*F26*(1+G12*G8+G13*G10+G11*G14)) -> 0 | H26: =(D9*F26*R9) -> 0 | I26: =F26-(H26/H$34*C$34/D9) -> #DIV/0! | J26: =IF($D$37=1, IF($F$41>$G$41, ROUNDUP(L26,), ROUNDDOWN(L26,)), IF($G$37=1, IF($F$41>$G$41, ROUNDUP(R26,), ROUNDDOWN(R26,)),ROUNDUP(R26,))) -> #DIV/0! | K26: =IF($D$37=1, IF($F$41>$G$41, ROUNDDOWN(N26,), ROUNDUP(N26,)), IF($G$37=1, IF($F$41>$G$41, ROUNDDOWN(S26,), ROUNDUP(S26,)),ROUNDUP(S26,))) -> #DIV/0! | L26: =B26-(D26/D34*G34/D9) -> #DIV/0! | M26: =B26-L26 -> #DIV/0! | N26: =F26-(H26/H34*C34/D9) -> #DIV/0! | O26: =F26-N26 -> #DIV/0! | P26: =IF(B26>0, 100*M26/B26, 0) -> 0 | Q26: =IF(F26>0, 100*O26/F26, 0) -> 0 | R26: =B26-$J$37*(D26/D$34*(G$34)/D9) -> #DIV/0! | S26: =F26-$J$37*(H26/H$34*(C$34)/D9) -> #DIV/0! | T26: =IF(B26>0,100*(B26-E26)/B26,0) -> 0 | U26: =IF(F26>0,100*(F26-I26)/F26,0) -> 0 | V26: =X26*(B26-J26) -> #DIV/0! | W26: =X26*(F26-K26) -> #DIV/0! | X26: 10 | Y26: =B26*X26 -> 0 | Z26: =F26*X26 -> 0
A27: Doppelaxtzwerg | B27: =IF(KamfSimulator!H$14=1,KamfSimulator!B28,KamfSimulator!C28) -> 0 | C27: =(B27*B10*(1+G4*G2+G3*G5)) -> 0 | D27: =SUM(B27*D10*R10) -> 0 | E27: =B27-(D27/D$34*G$34/D10) -> #DIV/0! | F27: =IF(KamfSimulator!H$14=2,KamfSimulator!E28,KamfSimulator!F28) -> 0 | G27: =(C10*F27*(1+G12*G8+G13*G10+G11*G14)) -> 0 | H27: =(D10*F27*R10) -> 0 | I27: =F27-(H27/H$34*C$34/D10) -> #DIV/0! | J27: =IF($D$37=1, IF($F$41>$G$41, ROUNDUP(L27,), ROUNDDOWN(L27,)), IF($G$37=1, IF($F$41>$G$41, ROUNDUP(R27,), ROUNDDOWN(R27,)),ROUNDUP(B27-M27*$J$37,))) -> #DIV/0! | K27: =IF($D$37=1, IF($F$41>$G$41, ROUNDDOWN(N27,), ROUNDUP(N27,)), IF($G$37=1, IF($F$41>$G$41, ROUNDDOWN(S27,), ROUNDUP(S27,)),ROUNDUP(F27-O27*$J$37,))) -> #DIV/0! | L27: =B27-(D27/D34*(G34+G30-0.5*G26)/D10) -> #DIV/0! | M27: =B27-L27 -> #DIV/0! | N27: =F27-(H27/H34*(C34+C30-0.5*C26)/D10) -> #DIV/0! | O27: =F27-N27 -> #DIV/0! | P27: =IF(B27>0, 100*M27/B27, 0) -> 0 | Q27: =IF(F27>0, 100*O27/F27, 0) -> 0 | R27: =B27-$J$37*(D27/D$34*(G$34)/D10) -> #DIV/0! | S27: =F27-$J$37*(H27/H$34*(C$34)/D10) -> #DIV/0! | T27: =IF(B27>0,100*(B27-E27)/B27,0) -> 0 | U27: =IF(F27>0,100*(F27-I27)/F27,0) -> 0 | V27: =X27*(B27-J27) -> #DIV/0! | W27: =X27*(F27-K27) -> #DIV/0! | X27: 14 | Y27: =B27*X27 -> 0 | Z27: =F27*X27 -> 0
A28: Feuerfee | B28: =IF(KamfSimulator!H$14=1,KamfSimulator!B29,KamfSimulator!C29) -> 0 | C28: =(B28*B11*(1+G4*G2+G3*G5)) -> 0 | D28: =SUM(B28*D11*R11) -> 0 | E28: =B28-(D28/D$34*G$34/D11) -> #DIV/0! | F28: =IF(KamfSimulator!H$14=2,KamfSimulator!E29,KamfSimulator!F29) -> 0 | G28: =(C11*F28*(1+G12*G8+G13*G10+G11*G14)) -> 0 | H28: =(D11*F28*R11) -> 0 | I28: =F28-(H28/H$34*C$34/D11) -> #DIV/0! | J28: =IF($D$37=1, IF($F$41>$G$41, ROUNDUP(L28,), ROUNDDOWN(L28,)), IF($G$37=1, IF($F$41>$G$41, ROUNDUP(R28,), ROUNDDOWN(R28,)),ROUNDUP(R28,))) -> #DIV/0! | K28: =IF($D$37=1, IF($F$41>$G$41, ROUNDDOWN(N28,), ROUNDUP(N28,)), IF($G$37=1, IF($F$41>$G$41, ROUNDDOWN(S28,), ROUNDUP(S28,)),ROUNDUP(S28,))) -> #DIV/0! | L28: =B28-(D28/D34*G34/D11) -> #DIV/0! | M28: =B28-L28 -> #DIV/0! | N28: =F28-(H28/H34*C34/D11) -> #DIV/0! | O28: =F28-N28 -> #DIV/0! | P28: =IF(B28>0, 100*M28/B28, 0) -> 0 | Q28: =IF(F28>0, 100*O28/F28, 0) -> 0 | R28: =B28-$J$37*(D28/D$34*(G$34)/D11) -> #DIV/0! | S28: =F28-$J$37*(H28/H$34*(C$34)/D11) -> #DIV/0! | T28: =IF(B28>0,100*(B28-E28)/B28,0) -> 0 | U28: =IF(F28>0,100*(F28-I28)/F28,0) -> 0 | V28: =X28*(B28-J28) -> #DIV/0! | W28: =X28*(F28-K28) -> #DIV/0! | X28: 14 | Y28: =B28*X28 -> 0 | Z28: =F28*X28 -> 0
A29: Halbriese | B29: =IF(KamfSimulator!H$14=1,KamfSimulator!B30,KamfSimulator!C30) -> 0 | C29: =(B29*B12*(1+G4*G2+G3*G5)) -> 0 | D29: =SUM(B29*D12*R12) -> 0 | E29: =B29-(D29/D$34*G$34/D12) -> #DIV/0! | F29: =IF(KamfSimulator!H$14=2,KamfSimulator!E30,KamfSimulator!F30) -> 0 | G29: =(C12*F29*(1+G12*G8+G13*G10+G11*G14)) -> 0 | H29: =(D12*F29*R12) -> 0 | I29: =F29-(H29/H$34*C$34/D12) -> #DIV/0! | J29: =IF($D$37=1, IF($F$41>$G$41, ROUNDUP(L29,), ROUNDDOWN(L29,)), IF($G$37=1, IF($F$41>$G$41, ROUNDUP(R29,), ROUNDDOWN(R29,)),ROUNDUP(B29-M29*$J$37,))) -> #DIV/0! | K29: =IF($D$37=1, IF($F$41>$G$41, ROUNDDOWN(N29,), ROUNDUP(N29,)), IF($G$37=1, IF($F$41>$G$41, ROUNDDOWN(S29,), ROUNDUP(S29,)),ROUNDUP(F29-O29*$J$37,))) -> #DIV/0! | L29: =B29-(D29/D34*(G34+G32-0.5*G28)/D12) -> #DIV/0! | M29: =B29-L29 -> #DIV/0! | N29: =F29-(H29/H34*(C34+C32-0.5*C28)/D12) -> #DIV/0! | O29: =F29-N29 -> #DIV/0! | P29: =IF(B29>0, 100*M29/B29, 0) -> 0 | Q29: =IF(F29>0, 100*O29/F29, 0) -> 0 | R29: =B29-$J$37*(D29/D$34*(G$34)/D12) -> #DIV/0! | S29: =F29-$J$37*(H29/H$34*(C$34)/D12) -> #DIV/0! | T29: =IF(B29>0,100*(B29-E29)/B29,0) -> 0 | U29: =IF(F29>0,100*(F29-I29)/F29,0) -> 0 | V29: =X29*(B29-J29) -> #DIV/0! | W29: =X29*(F29-K29) -> #DIV/0! | X29: 19 | Y29: =B29*X29 -> 0 | Z29: =F29*X29 -> 0
A30: Baumriese | B30: =IF(KamfSimulator!H$14=1,KamfSimulator!B31,KamfSimulator!C31) -> 0 | C30: =(B30*B13*(1+G4*G2+G3*G5)) -> 0 | D30: =SUM(B30*D13*R13) -> 0 | E30: =B30-(D30/D$34*G$34/D13) -> #DIV/0! | F30: =IF(KamfSimulator!H$14=2,KamfSimulator!E31,KamfSimulator!F31) -> 0 | G30: =(C13*F30*(1+G12*G8+G13*G10+G11*G14)) -> 0 | H30: =(D13*F30*R13) -> 0 | I30: =F30-(H30/H$34*C$34/D13) -> #DIV/0! | J30: =IF($D$37=1, IF($F$41>$G$41, ROUNDUP(L30,), ROUNDDOWN(L30,)), IF($G$37=1, IF($F$41>$G$41, ROUNDUP(R30,), ROUNDDOWN(R30,)),ROUNDUP(R30,))) -> #DIV/0! | K30: =IF($D$37=1, IF($F$41>$G$41, ROUNDDOWN(N30,), ROUNDUP(N30,)), IF($G$37=1, IF($F$41>$G$41, ROUNDDOWN(S30,), ROUNDUP(S30,)),ROUNDUP(S30,))) -> #DIV/0! | L30: =B30-(D30/D34*G34/D13) -> #DIV/0! | M30: =B30-L30 -> #DIV/0! | N30: =F30-(H30/H34*C34/D13) -> #DIV/0! | O30: =F30-N30 -> #DIV/0! | P30: =IF(B30>0, 100*M30/B30, 0) -> 0 | Q30: =IF(F30>0, 100*O30/F30, 0) -> 0 | R30: =B30-$J$37*(D30/D$34*(G$34)/D13) -> #DIV/0! | S30: =F30-$J$37*(H30/H$34*(C$34)/D13) -> #DIV/0! | T30: =IF(B30>0,100*(B30-E30)/B30,0) -> 0 | U30: =IF(F30>0,100*(F30-I30)/F30,0) -> 0 | V30: =X30*(B30-J30) -> #DIV/0! | W30: =X30*(F30-K30) -> #DIV/0! | X30: 19 | Y30: =B30*X30 -> 0 | Z30: =F30*X30 -> 0
A31: Bergtroll | B31: =IF(KamfSimulator!H$14=1,KamfSimulator!B32,KamfSimulator!C32) -> 0 | C31: =(B31*B14*(1+G4*G2+G3*G5)) -> 0 | D31: =SUM(B31*D14*R14) -> 0 | E31: =B31-(D31/D$34*G$34/D14) -> #DIV/0! | F31: =IF(KamfSimulator!H$14=2,KamfSimulator!E32,KamfSimulator!F32) -> 0 | G31: =(C14*F31*(1+G12*G8+G13*G10+G11*G14)) -> 0 | H31: =(D14*F31*R14) -> 0 | I31: =F31-(H31/H$34*C$34/D14) -> #DIV/0! | J31: =IF($D$37=1, IF($F$41>$G$41, ROUNDUP(L31,), ROUNDDOWN(L31,)), IF($G$37=1, IF($F$41>$G$41, ROUNDUP(R31,), ROUNDDOWN(R31,)),ROUNDUP(B31-M31*$J$37,))) -> #DIV/0! | K31: =IF($D$37=1, IF($F$41>$G$41, ROUNDDOWN(N31,), ROUNDUP(N31,)), IF($G$37=1, IF($F$41>$G$41, ROUNDDOWN(S31,), ROUNDUP(S31,)),ROUNDUP(F31-O31*$J$37,))) -> #DIV/0! | L31: =B31-(D31/D34*(G34+G20-0.5*G30)/D14) -> #DIV/0! | M31: =B31-L31 -> #DIV/0! | N31: =F31-(H31/H34*(C34+C20-0.5*C30)/D14) -> #DIV/0! | O31: =F31-N31 -> #DIV/0! | P31: =IF(B31>0, 100*M31/B31, 0) -> 0 | Q31: =IF(F31>0, 100*O31/F31, 0) -> 0 | R31: =B31-$J$37*(D31/D$34*(G$34)/D14) -> #DIV/0! | S31: =F31-$J$37*(H31/H$34*(C$34)/D14) -> #DIV/0! | T31: =IF(B31>0,100*(B31-E31)/B31,0) -> 0 | U31: =IF(F31>0,100*(F31-I31)/F31,0) -> 0 | V31: =X31*(B31-J31) -> #DIV/0! | W31: =X31*(F31-K31) -> #DIV/0! | X31: 25 | Y31: =B31*X31 -> 0 | Z31: =F31*X31 -> 0
A32: Elfenmagier | B32: =IF(KamfSimulator!H$14=1,KamfSimulator!B33,KamfSimulator!C33) -> 0 | C32: =(B32*B15*(1+G4*G2+G3*G5)) -> 0 | D32: =SUM(B32*D15*R15) -> 0 | E32: =B32-(D32/D$34*G$34/D15) -> #DIV/0! | F32: =IF(KamfSimulator!H$14=2,KamfSimulator!E33,KamfSimulator!F33) -> 0 | G32: =(C15*F32*(1+G12*G8+G13*G10+G11*G14)) -> 0 | H32: =(D15*F32*R15) -> 0 | I32: =F32-(H32/H$34*C$34/D15) -> #DIV/0! | J32: =IF($D$37=1, IF($F$41>$G$41, ROUNDUP(L32,), ROUNDDOWN(L32,)), IF($G$37=1, IF($F$41>$G$41, ROUNDUP(R32,), ROUNDDOWN(R32,)),ROUNDUP(R32,))) -> #DIV/0! | K32: =IF($D$37=1, IF($F$41>$G$41, ROUNDDOWN(N32,), ROUNDUP(N32,)), IF($G$37=1, IF($F$41>$G$41, ROUNDDOWN(S32,), ROUNDUP(S32,)),ROUNDUP(S32,))) -> #DIV/0! | L32: =B32-(D32/D34*G34/D15) -> #DIV/0! | M32: =B32-L32 -> #DIV/0! | N32: =F32-(H32/H34*C34/D15) -> #DIV/0! | O32: =F32-N32 -> #DIV/0! | P32: =IF(B32>0, 100*M32/B32, 0) -> 0 | Q32: =IF(F32>0, 100*O32/F32, 0) -> 0 | R32: =B32-$J$37*(D32/D$34*(G$34)/D15) -> #DIV/0! | S32: =F32-$J$37*(H32/H$34*(C$34)/D15) -> #DIV/0! | T32: =IF(B32>0,100*(B32-E32)/B32,0) -> 0 | U32: =IF(F32>0,100*(F32-I32)/F32,0) -> 0 | V32: =X32*(B32-J32) -> #DIV/0! | W32: =X32*(F32-K32) -> #DIV/0! | X32: 25 | Y32: =B32*X32 -> 0 | Z32: =F32*X32 -> 0
A33: Abenteuerwesen | B33: =IF(KamfSimulator!H$14=1,KamfSimulator!B34,KamfSimulator!C34) -> 0 | C33: =(B33*B16*(1+G5*G3+G4*G6)) -> 0 | D33: =SUM(B33*D16*R16) -> 0 | E33: =B33-(D33/D$34*G$34/D16) -> #DIV/0! | F33: =IF(KamfSimulator!H$14=2,KamfSimulator!E34,KamfSimulator!F34) -> 0 | G33: =(C16*F33*(1+G13*G9+G14*G11+G12*G15)) -> 0 | H33: =(D16*F33*R16) -> 0 | I33: =F33-(H33/H$34*C$34/D16) -> #DIV/0! | J33: =IF($D$37=1, IF($F$41>$G$41, ROUNDUP(L33,), ROUNDDOWN(L33,)), IF($G$37=1, IF($F$41>$G$41, ROUNDUP(R33,), ROUNDDOWN(R33,)),ROUNDUP(R33,))) -> #DIV/0! | K33: =IF($D$37=1, IF($F$41>$G$41, ROUNDDOWN(N33,), ROUNDUP(N33,)), IF($G$37=1, IF($F$41>$G$41, ROUNDDOWN(S33,), ROUNDUP(S33,)),ROUNDUP(S33,))) -> #DIV/0! | L33: =B33-(D33/D34*G34/D16) -> #DIV/0! | M33: =B33-L33 -> #DIV/0! | N33: =F33-(H33/H34*C34/D16) -> #DIV/0! | O33: =F33-N33 -> #DIV/0! | P33: =IF(B33>0, 100*M33/B33, 0) -> 0 | Q33: =IF(F33>0, 100*O33/F33, 0) -> 0 | R33: =B33-$J$37*(D33/D$34*(G$34)/D16) -> #DIV/0! | S33: =F33-$J$37*(H33/H$34*(C$34)/D16) -> #DIV/0! | T33: =IF(B33>0,100*(B33-E33)/B33,0) -> 0 | U33: =IF(F33>0,100*(F33-I33)/F33,0) -> 0 | V33: =X33*(B33-J33) -> #DIV/0! | W33: =X33*(F33-K33) -> #DIV/0! | X33: 3 | Y33: =B33*X33 -> 0 | Z33: =F33*X33 -> 0
C34: =SUM(C19:C33) -> 0 | D34: =SUM(D19:D33) -> 0 | G34: =SUM(G19:G33) -> 0 | H34: =SUM(H19:H33) -> 0 | V34: =SUM(V19:V33) -> #DIV/0! | W34: =SUM(W19:W33) -> #DIV/0! | Y34: =SUM(Y19:Y33) -> 0 | Z34: =SUM(Z19:Z33) -> 0
L35: gerundete Einheitenzahl | R35: =ROUNDUP(R19,) -> #DIV/0! | S35: =ROUNDUP(S19,) -> #DIV/0!
D36: wenn keine einheit tod dann 1, sonst 0 | G36: nach korrektur keine tod 1 | I36: Korrekturterm falls verluste > 10% | L36: Angreifer | N36: Verteidiger | R36: =ROUNDUP(R20,) -> #DIV/0! | S36: =ROUNDUP(S20,) -> #DIV/0!
D37: =IF(SUM(B19:B33)+SUM(F19:F33)-SUM(L37:L51)-SUM(N37:N51) = 0, 1, 0) -> #DIV/0! | G37: =IF(SUM(R35:R49)-SUM(B19:B33)+SUM(F19:F33)-SUM(S35:S49)=0,1,0) -> #DIV/0! | J37: =IF(MAX(1-(K55-C34)/K55,1-(J55-G34)/J55)>0.1,MIN(K55*0.1/C34,J55*0.1/G34),1) -> #DIV/0! | L37: =ROUNDUP(L19,0) -> #DIV/0! | N37: =ROUNDUP(N19,0) -> #DIV/0! | R37: =ROUNDUP(R21,) -> #DIV/0! | S37: =ROUNDUP(S21,) -> #DIV/0!
L38: =ROUNDUP(L20,0) -> #DIV/0! | N38: =ROUNDUP(N20,0) -> #DIV/0! | R38: =ROUNDUP(R22,) -> #DIV/0! | S38: =ROUNDUP(S22,) -> #DIV/0!
B39: Angreifer-verteidiger | C39: summe | D39: lebenspunkte danach | F39: % der lebenspunkte übrig | J39: Leben für Korrekturfaktor | L39: =ROUNDUP(L21,0) -> #DIV/0! | N39: =ROUNDUP(N21,0) -> #DIV/0! | R39: =ROUNDUP(R23,) -> #DIV/0! | S39: =ROUNDUP(S23,) -> #DIV/0!
B40: =ABS(B19-F19) -> 0 | C40: =SUM(B40:B53) -> 0 | D40: angreifer | E40: verteidiger | F40: angreifer | G40: verteidiger | J40: =SUM(B19*D2) -> 0 | K40: =(D2*F19) -> 0 | L40: =ROUNDUP(L22,0) -> #DIV/0! | N40: =ROUNDUP(N22,0) -> #DIV/0! | R40: =ROUNDUP(R24,) -> #DIV/0! | S40: =ROUNDUP(S24,) -> #DIV/0!
B41: =ABS(B20-F20) -> 0 | D41: =L19*D2 -> #DIV/0! | E41: =N19*D2 -> #DIV/0! | F41: =D56/D34 -> #DIV/0! | G41: =E56/H34 -> #DIV/0! | J41: =SUM(B20*D3) -> 0 | K41: =(D3*F20) -> 0 | L41: =ROUNDUP(L23,0) -> #DIV/0! | N41: =ROUNDUP(N23,0) -> #DIV/0! | R41: =ROUNDUP(R25,) -> #DIV/0! | S41: =ROUNDUP(S25,) -> #DIV/0!
B42: =ABS(B21-F21) -> 0 | D42: =L20*D3 -> #DIV/0! | E42: =N20*D3 -> #DIV/0! | J42: =SUM(B21*D4) -> 0 | K42: =(D4*F21) -> 0 | L42: =ROUNDUP(L24,0) -> #DIV/0! | N42: =ROUNDUP(N24,0) -> #DIV/0! | R42: =ROUNDUP(R26,) -> #DIV/0! | S42: =ROUNDUP(S26,) -> #DIV/0!
B43: =ABS(B22-F22) -> 0 | D43: =L21*D4 -> #DIV/0! | E43: =N21*D4 -> #DIV/0! | J43: =SUM(B22*D5) -> 0 | K43: =(D5*F22) -> 0 | L43: =ROUNDUP(L25,0) -> #DIV/0! | N43: =ROUNDUP(N25,0) -> #DIV/0! | R43: =ROUNDUP(R27,) -> #DIV/0! | S43: =ROUNDUP(S27,) -> #DIV/0!
B44: =ABS(B23-F23) -> 0 | D44: =L22*D5 -> #DIV/0! | E44: =N22*D5 -> #DIV/0! | G44: Schaden Gildenkampf | J44: =SUM(B23*D6) -> 0 | K44: =(D6*F23) -> 0 | L44: =ROUNDUP(L26,0) -> #DIV/0! | N44: =ROUNDUP(N26,0) -> #DIV/0! | R44: =ROUNDUP(R28,) -> #DIV/0! | S44: =ROUNDUP(S28,) -> #DIV/0!
B45: =ABS(B24-F24) -> 0 | D45: =L23*D6 -> #DIV/0! | E45: =N23*D6 -> #DIV/0! | G45: =ROUND(0.1*(C34*J55)^0.5,) -> 0 | I45: =ROUND(0.1*(G34*K55)^0.5,) -> 0 | J45: =SUM(B24*D7) -> 0 | K45: =(D7*F24) -> 0 | L45: =ROUNDUP(L27,0) -> #DIV/0! | N45: =ROUNDUP(N27,0) -> #DIV/0! | R45: =ROUNDUP(R29,) -> #DIV/0! | S45: =ROUNDUP(S29,) -> #DIV/0!
B46: =ABS(B25-F25) -> 0 | D46: =L24*D7 -> #DIV/0! | E46: =N24*D7 -> #DIV/0! | J46: =SUM(B25*D8) -> 0 | K46: =(D8*F25) -> 0 | L46: =ROUNDUP(L28,0) -> #DIV/0! | N46: =ROUNDUP(N28,0) -> #DIV/0! | R46: =ROUNDUP(R30,) -> #DIV/0! | S46: =ROUNDUP(S30,) -> #DIV/0!
B47: =ABS(B26-F26) -> 0 | D47: =L25*D8 -> #DIV/0! | E47: =N25*D8 -> #DIV/0! | H47: =G45/I45 -> #DIV/0! | J47: =SUM(B26*D9) -> 0 | K47: =(D9*F26) -> 0 | L47: =ROUNDUP(L29,0) -> #DIV/0! | N47: =ROUNDUP(N29,0) -> #DIV/0! | R47: =ROUNDUP(R31,) -> #DIV/0! | S47: =ROUNDUP(S31,) -> #DIV/0!
B48: =ABS(B27-F27) -> 0 | D48: =L26*D9 -> #DIV/0! | E48: =N26*D9 -> #DIV/0! | J48: =SUM(B27*D10) -> 0 | K48: =(D10*F27) -> 0 | L48: =ROUNDUP(L30,0) -> #DIV/0! | N48: =ROUNDUP(N30,0) -> #DIV/0! | R48: =ROUNDUP(R32,) -> #DIV/0! | S48: =ROUNDUP(S32,) -> #DIV/0!
B49: =ABS(B28-F28) -> 0 | D49: =L27*D10 -> #DIV/0! | E49: =N27*D10 -> #DIV/0! | J49: =SUM(B28*D11) -> 0 | K49: =(D11*F28) -> 0 | L49: =ROUNDUP(L31,0) -> #DIV/0! | N49: =ROUNDUP(N31,0) -> #DIV/0! | R49: =ROUNDUP(R33,) -> #DIV/0! | S49: =ROUNDUP(S33,) -> #DIV/0!
B50: =ABS(B29-F29) -> 0 | D50: =L28*D11 -> #DIV/0! | E50: =N28*D11 -> #DIV/0! | J50: =SUM(B29*D12) -> 0 | K50: =(D12*F29) -> 0 | L50: =ROUNDUP(L32,0) -> #DIV/0! | N50: =ROUNDUP(N32,0) -> #DIV/0!
B51: =ABS(B30-F30) -> 0 | D51: =L29*D12 -> #DIV/0! | E51: =N29*D12 -> #DIV/0! | J51: =SUM(B30*D13) -> 0 | K51: =(D13*F30) -> 0 | L51: =ROUNDUP(L33,0) -> #DIV/0! | N51: =ROUNDUP(N33,0) -> #DIV/0!
B52: =ABS(B31-F31) -> 0 | D52: =L30*D13 -> #DIV/0! | E52: =N30*D13 -> #DIV/0! | J52: =SUM(B31*D14) -> 0 | K52: =(D14*F31) -> 0
B53: =ABS(B32-F32) -> 0 | D53: =L31*D14 -> #DIV/0! | E53: =N31*D14 -> #DIV/0! | J53: =SUM(B32*D15) -> 0 | K53: =(D15*F32) -> 0
B54: =ABS(B33-F33) -> 0 | D54: =L32*D15 -> #DIV/0! | E54: =N32*D15 -> #DIV/0! | J54: =SUM(B33*D16) -> 0 | K54: =(D16*F33) -> 0
D55: =L33*D16 -> #DIV/0! | E55: =N33*D16 -> #DIV/0! | J55: =SUM(J40:J54) -> 0 | K55: =SUM(K40:K54) -> 0
C56: summe: | D56: =SUM(D41:D55) -> #DIV/0! | E56: =SUM(E41:E55) -> #DIV/0!
